BEGIN:VCALENDAR
VERSION:2.0
PRODID:-//CAM - ECPv6.15.20//NONSGML v1.0//EN
CALSCALE:GREGORIAN
METHOD:PUBLISH
X-WR-CALNAME:CAM
X-ORIGINAL-URL:https://camoron.org.ar
X-WR-CALDESC:Eventos para CAM
REFRESH-INTERVAL;VALUE=DURATION:PT1H
X-Robots-Tag:noindex
X-PUBLISHED-TTL:PT1H
BEGIN:VTIMEZONE
TZID:America/Argentina/Buenos_Aires
BEGIN:STANDARD
TZOFFSETFROM:-0300
TZOFFSETTO:-0300
TZNAME:-03
DTSTART:20250101T000000
END:STANDARD
END:VTIMEZONE
BEGIN:VEVENT
DTSTART;TZID=America/Argentina/Buenos_Aires:20260515T160000
DTEND;TZID=America/Argentina/Buenos_Aires:20260515T180000
DTSTAMP:20260420T211628
CREATED:20260406T191023Z
LAST-MODIFIED:20260406T191406Z
UID:30245-1778860800-1778868000@camoron.org.ar
SUMMARY:Jornada 1°. El Interés Superior del niño. Conversatorio.
DESCRIPTION:CICLO DE ACTUALIZACIÓN DEL ABOGADO DEL NIÑOYa con varios años de existencia y un recorrido de los Abogados del Niño conforme las normativas en el orden provincial\, resulta conveniente actualizar los conocimientos en la materia conforme el desarrollo de sus prácticas.En tal sentido haremos eje en un principio consagrado legislativamente tanto en el orden nacional como en el internacional: El Interés Superior del Niño como principio fundamental a tener en cuenta tanto en el orden normativo como operativo en cualquier tipo de intervención para garantizar los derechos de Niños\, Niñas y AdolescentesEn base a ello\, hacemos conocer el cronograma de 4 encuentros de manera presencial en el marco de la capacitación permanente de los abogados/as del niño actualmente registrados/as \n\n\n\n \n\n\n\n1ª. Jornada: EL INTERÉS SUPERIOR DEL NIÑO. ConversatorioSus contenidos\, alcances e interpretación jurisprudencial en el orden nacional e internacional. \n\n\n\nDISERTA:Dr. Diego FreedmanJuez del Tribunal Oral de Menores N°2 de CABA. Profesor de Derecho Penal. \n\n\n\nMODERA:Dr. Héctor Raffo \n\n\n\nORGANIZA:Instituto de Abogado de Niños/as y Adolescentes \n\n\n\nADHIERE:Institutos de Derecho de Familia y de Niñeces y Adolescencia. \n\n\n\n▶️Presencial en Brown 1248\, Morón
URL:https://camoron.org.ar/evento/jornada-1-el-interes-superior-del-nino-conversatorio/
CATEGORIES:Cursos
END:VEVENT
END:VCALENDAR