BEGIN:VCALENDAR
VERSION:2.0
PRODID:-//CAM - ECPv6.15.20//NONSGML v1.0//EN
CALSCALE:GREGORIAN
METHOD:PUBLISH
X-WR-CALNAME:CAM
X-ORIGINAL-URL:https://camoron.org.ar
X-WR-CALDESC:Eventos para CAM
REFRESH-INTERVAL;VALUE=DURATION:PT1H
X-Robots-Tag:noindex
X-PUBLISHED-TTL:PT1H
BEGIN:VTIMEZONE
TZID:America/Argentina/Buenos_Aires
BEGIN:STANDARD
TZOFFSETFROM:-0300
TZOFFSETTO:-0300
TZNAME:-03
DTSTART:20250101T000000
END:STANDARD
END:VTIMEZONE
BEGIN:VEVENT
DTSTART;TZID=America/Argentina/Buenos_Aires:20260420T000000
DTEND;TZID=America/Argentina/Buenos_Aires:20260420T235959
DTSTAMP:20260420T020205
CREATED:20260330T143446Z
LAST-MODIFIED:20260330T143447Z
UID:30208-1776643200-1776729599@camoron.org.ar
SUMMARY:Reunión de Institutos y Comisiones: Resolución Sistémica de Conflictos
DESCRIPTION:QUE ES UN INSTITUTO/COMISIÓN?Nuestros Institutos y Comisiones trabajan en el análisis\, contenido e investigación de las distintas áreas del Derecho.Es un ámbito dedicado al intercambio entre colegas para la permanente formación y actualización en el ejercicio profesional.Podes formar parte como miembro permanente o acercarte para resolver una duda o consulta respecto a esa materia.Te invitamos a sumarte a la rama del derecho que más te guste! \n\n\n\nESPACIO EXCLUSIVO PARA MATRICULADOS CAM \n\n\n\nInstituto de  de Resolución Sistémica de Conflictos:▶️Horario: 15hs.▶️Modalidad: Presencial en Sede Brown 1248\, Morón
URL:https://camoron.org.ar/evento/reunion-de-institutos-y-comisiones-resolucion-sistemica-de-conflictos-2/
CATEGORIES:Reuniones
END:VEVENT
BEGIN:VEVENT
DTSTART;TZID=America/Argentina/Buenos_Aires:20260420T150000
DTEND;TZID=America/Argentina/Buenos_Aires:20260420T170000
DTSTAMP:20260420T020205
CREATED:20260416T125250Z
LAST-MODIFIED:20260416T125251Z
UID:30286-1776697200-1776704400@camoron.org.ar
SUMMARY:El conflicto desde otro lugar: Un espacio introductorio a la Resolución Sistémica de Conflictos
DESCRIPTION:Los conflictos no siempre se resuelven desde donde intentamos hacerlo.En este espacio exploraremos una forma diferente de comprender e intervenir en el conflicto\, ampliando la mirada más allá de lo evidente.Un primer acercamiento a la Resolución Sistémica de Conflictos. \n\n\n\nFechas: 20 de Abril\, 4 y 8 de Mayo \n\n\n\nA cargo de la Dra. Cristina Llaguno y miembros del Instituto de Resolución Sistémica de Conflictos \n\n\n\nACTIVIDAD EXCLUSIVA MATRICULADOS CAM \n\n\n\n▶️Presencial en Brown 1248\, Morón
URL:https://camoron.org.ar/evento/el-conflicto-desde-otro-lugar-un-espacio-introductorio-a-la-resolucion-sistemica-de-conflictos/
CATEGORIES:Cursos
END:VEVENT
BEGIN:VEVENT
DTSTART;TZID=America/Argentina/Buenos_Aires:20260420T160000
DTEND;TZID=America/Argentina/Buenos_Aires:20260420T180000
DTSTAMP:20260420T020205
CREATED:20260319T180202Z
LAST-MODIFIED:20260319T180203Z
UID:30115-1776700800-1776708000@camoron.org.ar
SUMMARY:Taller Práctico de Derecho Previsional
DESCRIPTION:¿Tenés tu primer consulta previsional? ¿Tenés dudas con tu cálculo de reajustes?Sumate a nuestro taller y la resolvemos juntos. \n\n\n\nDISERTANTE:Dra. Fiorella Santangelo Meza \n\n\n\nACTIVIDAD EXCLUSIVA MATRICULADOS CAM \n\n\n\n▶️Actividad no arancelada▶️Presencial en Brown 1248\, Morón
URL:https://camoron.org.ar/evento/taller-practico-de-derecho-previsional-10/
CATEGORIES:Cursos
END:VEVENT
BEGIN:VEVENT
DTSTART;TZID=America/Argentina/Buenos_Aires:20260420T160000
DTEND;TZID=America/Argentina/Buenos_Aires:20260420T180000
DTSTAMP:20260420T020205
CREATED:20260319T180349Z
LAST-MODIFIED:20260319T180350Z
UID:30117-1776700800-1776708000@camoron.org.ar
SUMMARY:Taller Práctico Reforma Laboral 2026
DESCRIPTION:¡Podes traer tu notebook y te ayudamos a resolver las dudas que tengas! \n\n\n\nA cargo de los Dres. Sergio Arce. Gabriela Beron\, Belén López\, Carolina Naboni y Leonel Bergaglio \n\n\n\nActividad Exclusiva Matriculados CAM  \n\n\n\n▶️Actividad no arancelada \n\n\n\n▶️Presencial en Brown 1248\, Morón
URL:https://camoron.org.ar/evento/taller-practico-reforma-laboral-2026-4/
CATEGORIES:Cursos
END:VEVENT
BEGIN:VEVENT
DTSTART;TZID=America/Argentina/Buenos_Aires:20260420T170000
DTEND;TZID=America/Argentina/Buenos_Aires:20260420T190000
DTSTAMP:20260420T020205
CREATED:20260319T182640Z
LAST-MODIFIED:20260319T182641Z
UID:30123-1776704400-1776711600@camoron.org.ar
SUMMARY:Taller Práctico de Derecho Penal
DESCRIPTION:¿HACES PENAL Y TENES MUCHAS DUDAS?Nosotros te vamos a ayudar a resolverlas \n\n\n\nCoordinador: Dr. Gerardo FregaJuez de la Cámara de Apelación y Garantías \n\n\n\n-Primeras audiencias en el proceso penal bonaerense.-Estrategias y errores frecuentes en el proceso-Cómo solicitar una excarcelación y dónde presentarla.-Cómo acompañar a la víctima y al imputado.-Cómo trabajar con los peligros procesales \n\n\n\nACTIVIDAD EXCLUSIVA MATRICULADOS CAM \n\n\n\n▶️Actividad no arancelada \n\n\n\n▶️Presencial en Brown 1248\, Morón
URL:https://camoron.org.ar/evento/taller-practico-de-derecho-penal-15/
CATEGORIES:Cursos
END:VEVENT
BEGIN:VEVENT
DTSTART;TZID=America/Argentina/Buenos_Aires:20260420T180000
DTEND;TZID=America/Argentina/Buenos_Aires:20260420T193000
DTSTAMP:20260420T020205
CREATED:20260319T181343Z
LAST-MODIFIED:20260319T181343Z
UID:30119-1776708000-1776713400@camoron.org.ar
SUMMARY:Taller de Derecho del Consumidor
DESCRIPTION:Problemas con bancos y tarjetas: cómo defender al consumidor \n\n\n\nDISERTANTE: Dra. Erika Julieta Aguirre \n\n\n\nACTIVIDAD EXCLUSIVA MATRICULADOS CAM \n\n\n\n▶️Actividad no arancelada \n\n\n\n▶️Presencial en Brown 1248\, Morón
URL:https://camoron.org.ar/evento/taller-de-derecho-del-consumidor-8/
CATEGORIES:Cursos
END:VEVENT
END:VCALENDAR