BEGIN:VCALENDAR
VERSION:2.0
PRODID:-//CAM - ECPv6.15.20//NONSGML v1.0//EN
CALSCALE:GREGORIAN
METHOD:PUBLISH
X-WR-CALNAME:CAM
X-ORIGINAL-URL:https://camoron.org.ar
X-WR-CALDESC:Eventos para CAM
REFRESH-INTERVAL;VALUE=DURATION:PT1H
X-Robots-Tag:noindex
X-PUBLISHED-TTL:PT1H
BEGIN:VTIMEZONE
TZID:America/Argentina/Buenos_Aires
BEGIN:STANDARD
TZOFFSETFROM:-0300
TZOFFSETTO:-0300
TZNAME:-03
DTSTART:20250101T000000
END:STANDARD
END:VTIMEZONE
BEGIN:VEVENT
DTSTART;TZID=America/Argentina/Buenos_Aires:20260416T000000
DTEND;TZID=America/Argentina/Buenos_Aires:20260416T235959
DTSTAMP:20260422T053831
CREATED:20260330T142810Z
LAST-MODIFIED:20260330T142811Z
UID:30204-1776297600-1776383999@camoron.org.ar
SUMMARY:Reunión de Institutos y Comisiones: Constitucional/Daños y Perjuicios/Tributario/Derechos Humanos
DESCRIPTION:QUE ES UN INSTITUTO/COMISIÓN?Nuestros Institutos y Comisiones trabajan en el análisis\, contenido e investigación de las distintas áreas del Derecho.Es un ámbito dedicado al intercambio entre colegas para la permanente formación y actualización en el ejercicio profesional.Podes formar parte como miembro permanente o acercarte para resolver una duda o consulta respecto a esa materia.Te invitamos a sumarte a la rama del derecho que más te guste! \n\n\n\nESPACIO EXCLUSIVO PARA MATRICULADOS CAM \n\n\n\nInstituto de Constitucional:▶️Horario: 14:30hs.▶️Modalidad: Presencial en Sede Brown 1248\, Morón \n\n\n\nInstituto de Daños y Perjuicios:▶️Horario: 15hs.▶️Modalidad: Presencial en Sede Brown 1248\, Morón \n\n\n\nInstituto de Derecho Tributario:▶️Horario: 15hs.▶️Modalidad: Presencial en Sede Brown 1248\, Morón \n\n\n\nInstituto de Derechos Humanos:▶️Horario: 18hs.▶️Modalidad: Virtual a través de ZOOM\, solicitar acceso a academicos@camoron.org.ar
URL:https://camoron.org.ar/evento/reunion-de-institutos-y-comisiones-constitucional-danos-y-perjuicios-tributario-derechos-humanos/
CATEGORIES:Reuniones
END:VEVENT
BEGIN:VEVENT
DTSTART;TZID=America/Argentina/Buenos_Aires:20260416T143000
DTEND;TZID=America/Argentina/Buenos_Aires:20260416T163000
DTSTAMP:20260422T053831
CREATED:20260319T151058Z
LAST-MODIFIED:20260319T151059Z
UID:30099-1776349800-1776357000@camoron.org.ar
SUMMARY:Taller Senior de Práctica Judicial
DESCRIPTION:Trae tus dudas\, tu carpeta y tu notebook! \n\n\n\nA cargo del Dr. Hernán QuadriPresidente de la Cámara de Apelación en lo Civil y Comercial Sala 2 – Morón \n\n\n\nACTIVIDAD EXCLUSIVA MATRICULADOS CAM \n\n\n\n▶️Actividad no arancelada \n\n\n\n▶️Presencial en Brown 1248\, Morón
URL:https://camoron.org.ar/evento/taller-senior-de-practica-judicial-5/
CATEGORIES:Cursos
END:VEVENT
BEGIN:VEVENT
DTSTART;TZID=America/Argentina/Buenos_Aires:20260416T160000
DTEND;TZID=America/Argentina/Buenos_Aires:20260416T180000
DTSTAMP:20260422T053831
CREATED:20260319T152023Z
LAST-MODIFIED:20260319T192840Z
UID:30103-1776355200-1776362400@camoron.org.ar
SUMMARY:Taller de Daños
DESCRIPTION:Trae tus dudas\, tu carpeta\, tu notebook y lo que quieras para que nosotros te ayudamos a resolver tu caso \n\n\n\nA cargo de los miembros del Instituto de Daños y Perjuicios y Responsabilidad Civil \n\n\n\nACTIVIDAD EXCLUSIVA MATRICULADOS CAM \n\n\n\n▶️Actividad no arancelada \n\n\n\n▶️Presencial en Brown 1248\, Morón
URL:https://camoron.org.ar/evento/taller-de-contratos-8/
CATEGORIES:Cursos
END:VEVENT
END:VCALENDAR