BEGIN:VCALENDAR
VERSION:2.0
PRODID:-//CAM - ECPv6.15.20//NONSGML v1.0//EN
CALSCALE:GREGORIAN
METHOD:PUBLISH
X-WR-CALNAME:CAM
X-ORIGINAL-URL:https://camoron.org.ar
X-WR-CALDESC:Eventos para CAM
REFRESH-INTERVAL;VALUE=DURATION:PT1H
X-Robots-Tag:noindex
X-PUBLISHED-TTL:PT1H
BEGIN:VTIMEZONE
TZID:America/Argentina/Buenos_Aires
BEGIN:STANDARD
TZOFFSETFROM:-0300
TZOFFSETTO:-0300
TZNAME:-03
DTSTART:20250101T000000
END:STANDARD
END:VTIMEZONE
BEGIN:VEVENT
DTSTART;TZID=America/Argentina/Buenos_Aires:20260409T000000
DTEND;TZID=America/Argentina/Buenos_Aires:20260409T235959
DTSTAMP:20260420T182110
CREATED:20260325T195921Z
LAST-MODIFIED:20260325T195922Z
UID:30190-1775692800-1775779199@camoron.org.ar
SUMMARY:Reunión de Institutos y Comisiones: Salud y Bioetica/ Ambiental/Laboral/Seguros/Reclamos por Daños
DESCRIPTION:QUE ES UN INSTITUTO/COMISIÓN?Nuestros Institutos y Comisiones trabajan en el análisis\, contenido e investigación de las distintas áreas del Derecho.Es un ámbito dedicado al intercambio entre colegas para la permanente formación y actualización en el ejercicio profesional.Podes formar parte como miembro permanente o acercarte para resolver una duda o consulta respecto a esa materia.Te invitamos a sumarte a la rama del derecho que más te guste! \n\n\n\nESPACIO EXCLUSIVO PARA MATRICULADOS CAM \n\n\n\nInstituto de Salud y Bioética:▶️Horario: 14:30hs.▶️Modalidad: Presencial en Sede Brown 1248\, Morón \n\n\n\nInstituto de Ambiental:▶️Horario: 14:30hs.▶️Modalidad: Virtual a través de ZOOM\, solicitar acceso a academicos@camoron.org.ar \n\n\n\nInstituto de Derecho Laboral:▶️Horario: 15:00hs.▶️Modalidad: Presencial en Sede Brown 1248\, Morón \n\n\n\nInstituto de Seguros:▶️Horario: 15hs.▶️Modalidad: Presencial en Sede Brown 1248\, Morón \n\n\n\nInstituto de Reclamos por Daños:▶️Horario: 15hs.▶️Modalidad: Virtual a través de ZOOM\, solicitar acceso a academicos@camoron.org.ar
URL:https://camoron.org.ar/evento/reunion-de-institutos-y-comisiones-salud-y-bioetica-ambiental-laboral-seguros-reclamos-por-danos/
CATEGORIES:Reuniones
END:VEVENT
BEGIN:VEVENT
DTSTART;TZID=America/Argentina/Buenos_Aires:20260409T140000
DTEND;TZID=America/Argentina/Buenos_Aires:20260409T160000
DTSTAMP:20260420T182110
CREATED:20260325T171954Z
LAST-MODIFIED:20260331T174449Z
UID:30180-1775743200-1775750400@camoron.org.ar
SUMMARY:TRÁMITES EN EL REGISTRO DE LA PROPIEDAD INMUEBLE
DESCRIPTION:Cómo pedir informes de dominio\, copia de dominio\, soporte microfílmico. Constitución de Bien de familia. Levantamiento de Usufructo y medidas cautelares. \n\n\n\nDISERTA:Dr. Fernando Emmanuel RoblesAbogado. Escribano. Martillero y Corredor Público e Inmobiliario. Agente Técnico del Registro de Propiedad Inmueble de la Provincia de Buenos Aires. Docente Universitario de Derechos Reales \n\n\n\nExclusivo Matriculados CAM \n\n\n\nORGANIZA:Instituto de Derecho Notarial. Directora Dra. Maria Eugenia Cavallo. Secretaria Dra. Cecilia Eliana Cáceres \n\n\n\n▶️Presencial en Brown 1248\, Morón
URL:https://camoron.org.ar/evento/titulo-tramites-en-el-registro-de-la-propiedad-inmueble-delegacion-moron/
CATEGORIES:Cursos
END:VEVENT
BEGIN:VEVENT
DTSTART;TZID=America/Argentina/Buenos_Aires:20260409T143000
DTEND;TZID=America/Argentina/Buenos_Aires:20260409T163000
DTSTAMP:20260420T182110
CREATED:20260318T142819Z
LAST-MODIFIED:20260318T142835Z
UID:30075-1775745000-1775752200@camoron.org.ar
SUMMARY:Taller Senior de Práctica Judicial
DESCRIPTION:Trae tus dudas\, tu carpeta y tu notebook! \n\n\n\nA cargo del Dr. Hernán QuadriPresidente de la Cámara de Apelación en lo Civil y Comercial Sala 2 – Morón \n\n\n\nACTIVIDAD EXCLUSIVA MATRICULADOS CAM \n\n\n\n▶️Actividad no arancelada \n\n\n\n▶️Presencial en Brown 1248\, Morón
URL:https://camoron.org.ar/evento/taller-senior-de-practica-judicial-4/
CATEGORIES:Cursos
END:VEVENT
BEGIN:VEVENT
DTSTART;TZID=America/Argentina/Buenos_Aires:20260409T160000
DTEND;TZID=America/Argentina/Buenos_Aires:20260409T180000
DTSTAMP:20260420T182110
CREATED:20260318T143708Z
LAST-MODIFIED:20260318T143710Z
UID:30077-1775750400-1775757600@camoron.org.ar
SUMMARY:Taller Práctico de Daños
DESCRIPTION:Trae tus dudas\, tu carpeta\, tu notebook y lo que quieras para que nosotros te ayudamos a resolver tu caso \n\n\n\nA cargo de los miembros del Instituto de Daños y Perjuicios y Responsabilidad Civil \n\n\n\nACTIVIDAD EXCLUSIVA MATRICULADOS CAM \n\n\n\n▶️Actividad no arancelada \n\n\n\n▶️Presencial en Brown 1248\, Morón
URL:https://camoron.org.ar/evento/taller-practico-de-danos-20/
CATEGORIES:Cursos
END:VEVENT
END:VCALENDAR