BEGIN:VCALENDAR
VERSION:2.0
PRODID:-//CAM - ECPv6.15.20//NONSGML v1.0//EN
CALSCALE:GREGORIAN
METHOD:PUBLISH
X-WR-CALNAME:CAM
X-ORIGINAL-URL:https://camoron.org.ar
X-WR-CALDESC:Eventos para CAM
REFRESH-INTERVAL;VALUE=DURATION:PT1H
X-Robots-Tag:noindex
X-PUBLISHED-TTL:PT1H
BEGIN:VTIMEZONE
TZID:America/Argentina/Buenos_Aires
BEGIN:STANDARD
TZOFFSETFROM:-0300
TZOFFSETTO:-0300
TZNAME:-03
DTSTART:20250101T000000
END:STANDARD
END:VTIMEZONE
BEGIN:VEVENT
DTSTART;TZID=America/Argentina/Buenos_Aires:20260331T143000
DTEND;TZID=America/Argentina/Buenos_Aires:20260331T163000
DTSTAMP:20260420T182110
CREATED:20260305T142056Z
LAST-MODIFIED:20260305T145055Z
UID:30000-1774967400-1774974600@camoron.org.ar
SUMMARY:Taller Práctico de Derecho de Familia
DESCRIPTION:¡Te invitamos a traer tu caso y resolverlo juntos! \n\n\n\nEspacio Exclusivo Matriculados CAM \n\n\n\n▶️Actividad no arancelada \n\n\n\n▶️Presencial en Brown 1248\, Morón
URL:https://camoron.org.ar/evento/taller-practico-de-derecho-de-familia-40/
CATEGORIES:Cursos
END:VEVENT
BEGIN:VEVENT
DTSTART;TZID=America/Argentina/Buenos_Aires:20260331T170000
DTEND;TZID=America/Argentina/Buenos_Aires:20260331T190000
DTSTAMP:20260420T182110
CREATED:20260305T142311Z
LAST-MODIFIED:20260305T145112Z
UID:30002-1774976400-1774983600@camoron.org.ar
SUMMARY:Taller Práctico de Derecho Penal
DESCRIPTION:¿HACES PENAL Y TENES MUCHAS DUDAS? \n\n\n\nNosotros te vamos a ayudar a resolverlas \n\n\n\nCoordinador: Dr. Gerardo Frega \n\n\n\nJuez de la Cámara de Apelación y Garantías \n\n\n\nPrimeras audiencias en el proceso penal bonaerense. \n\n\n\nEstrategias y errores frecuentes en el proceso \n\n\n\nCómo solicitar una excarcelación y dónde presentarla. \n\n\n\nCómo acompañar a la víctima y al imputado. \n\n\n\nCómo trabajar con los peligros procesales \n\n\n\nACTIVIDAD EXCLUSIVA MATRICULADOS CAM \n\n\n\n▶️Actividad no arancelada \n\n\n\n▶️Presencial en Brown 1248\, Morón
URL:https://camoron.org.ar/evento/taller-practico-de-derecho-penal-12/
CATEGORIES:Cursos
END:VEVENT
END:VCALENDAR