BEGIN:VCALENDAR
VERSION:2.0
PRODID:-//CAM - ECPv6.15.20//NONSGML v1.0//EN
CALSCALE:GREGORIAN
METHOD:PUBLISH
X-WR-CALNAME:CAM
X-ORIGINAL-URL:https://camoron.org.ar
X-WR-CALDESC:Eventos para CAM
REFRESH-INTERVAL;VALUE=DURATION:PT1H
X-Robots-Tag:noindex
X-PUBLISHED-TTL:PT1H
BEGIN:VTIMEZONE
TZID:America/Argentina/Buenos_Aires
BEGIN:STANDARD
TZOFFSETFROM:-0300
TZOFFSETTO:-0300
TZNAME:-03
DTSTART:20250101T000000
END:STANDARD
END:VTIMEZONE
BEGIN:VEVENT
DTSTART;TZID=America/Argentina/Buenos_Aires:20260325T000000
DTEND;TZID=America/Argentina/Buenos_Aires:20260325T235959
DTSTAMP:20260420T200209
CREATED:20260305T140540Z
LAST-MODIFIED:20260320T122608Z
UID:29987-1774396800-1774483199@camoron.org.ar
SUMMARY:Reunión de Institutos y Comisiones: Penal/ Administrativo/ Comercial\, Concursal y Sociedades/ Discapacidad/ Ciencia\, Tec. e Innovación
DESCRIPTION:QUE ES UN INSTITUTO/COMISIÓN?Nuestros Institutos y Comisiones trabajan en el análisis\, contenido e investigación de las distintas áreas del Derecho.Es un ámbito dedicado al intercambio entre colegas para la permanente formación y actualización en el ejercicio profesional.Podes formar parte como miembro permanente o acercarte para resolver una duda o consulta respecto a esa materia.Te invitamos a sumarte a la rama del derecho que más te guste! \n\n\n\nESPACIO EXCLUSIVO PARA MATRICULADOS CAM \n\n\n\nInstituto de Derecho Administrativo:▶️Horario: 14:30hs.▶️Modalidad: Virtual a través de ZOOM\, solicitar acceso a academicos@camoron.org.ar \n\n\n\nComisión de Discapacidad:▶️Horario: 15hs.▶️Modalidad: Presencial en Sede Brown 1248\, Morón \n\n\n\nInstituto de Penal:▶️Horario: 15:00hs.▶️Modalidad: Presencial en Sede Brown 1248\, Morón \n\n\n\nInstituto de Comercial\, Concursal y Sociedades:▶️Horario: 15:30hs.▶️Modalidad: Presencial en Sede Brown 1248\, Morón \n\n\n\nInstituto de Ciencia\, Tecnología e Información:▶️Horario: 20hs.▶️Modalidad: Virtual a través de ZOOM\, solicitar acceso a academicos@camoron.org.ar
URL:https://camoron.org.ar/evento/reunion-de-institutos-y-comisiones-contravencional-y-faltas-administrativo-comercial-concursal-y-sociedades-ciencia-tec-e-innovacion/
CATEGORIES:Reuniones
END:VEVENT
BEGIN:VEVENT
DTSTART;TZID=America/Argentina/Buenos_Aires:20260325T160000
DTEND;TZID=America/Argentina/Buenos_Aires:20260325T180000
DTSTAMP:20260420T200209
CREATED:20260305T131552Z
LAST-MODIFIED:20260318T132747Z
UID:29961-1774454400-1774461600@camoron.org.ar
SUMMARY:Taller Práctico de ART. Fondo de Reserva "Caso Galeno ART"
DESCRIPTION:Trae tus dudas\, tu carpeta\, tu notebook y lo que quieras para que nosotros te ayudamos a resolver tu caso \n\n\n\nCon la presencia del Dr. Leandro MuñozEspecialista e Integrante del Instituto Derecho del Trabajo. CAAL \n\n\n\nACTIVIDAD EXCLUSIVA MATRICULADOS CAM \n\n\n\n▶️Actividad no arancelada \n\n\n\n▶️Presencial en Brown 1248\, Morón
URL:https://camoron.org.ar/evento/taller-practico-de-art-18/
CATEGORIES:Cursos
END:VEVENT
BEGIN:VEVENT
DTSTART;TZID=America/Argentina/Buenos_Aires:20260325T180000
DTEND;TZID=America/Argentina/Buenos_Aires:20260325T190000
DTSTAMP:20260420T200209
CREATED:20260317T155526Z
LAST-MODIFIED:20260317T155526Z
UID:30039-1774461600-1774465200@camoron.org.ar
SUMMARY:Responsabilidad Civil y uso de la IA
DESCRIPTION:Análisis Practico del impacto de la inteligencia artificial en la responsabilidad civil.  \n\n\n\nDiserta: Romina D´Angelo Secretaria de Cámara Civil y Comercial del Departamento Judicial de Dolores \n\n\n\nModera: Dr. Juan Ezequiel Politi Miembro del Instituto de Informática y Nuevas Tecnología CAM \n\n\n\nOrganiza:Instituto de Informática y Nuevas Tecnología CAM \n\n\n\n▶️Por ZOOM. El enlace de ingreso será remitido exclusivamente a quienes realicen la inscripción a través de esta web.
URL:https://camoron.org.ar/evento/responsabilidad-civil-y-uso-de-la-ia/
CATEGORIES:Cursos
END:VEVENT
END:VCALENDAR