BEGIN:VCALENDAR
VERSION:2.0
PRODID:-//CAM - ECPv6.15.20//NONSGML v1.0//EN
CALSCALE:GREGORIAN
METHOD:PUBLISH
X-WR-CALNAME:CAM
X-ORIGINAL-URL:https://camoron.org.ar
X-WR-CALDESC:Eventos para CAM
REFRESH-INTERVAL;VALUE=DURATION:PT1H
X-Robots-Tag:noindex
X-PUBLISHED-TTL:PT1H
BEGIN:VTIMEZONE
TZID:America/Argentina/Buenos_Aires
BEGIN:STANDARD
TZOFFSETFROM:-0300
TZOFFSETTO:-0300
TZNAME:-03
DTSTART:20240101T000000
END:STANDARD
END:VTIMEZONE
BEGIN:VEVENT
DTSTART;TZID=America/Argentina/Buenos_Aires:20251212T170000
DTEND;TZID=America/Argentina/Buenos_Aires:20251212T190000
DTSTAMP:20260420T050546
CREATED:20251201T190850Z
LAST-MODIFIED:20251210T125949Z
UID:29483-1765558800-1765566000@camoron.org.ar
SUMMARY:Taller Práctico de Derecho Penal
DESCRIPTION:¿HACES PENAL Y TENES MUCHAS DUDAS?Nosotros te vamos a ayudar a resolverlas \n\n\n\nULTIMA REUNION DEL AÑO \n\n\n\nCoordinador: Dr. Gerardo FregaJuez de la Cámara de Apelación y Garantías \n\n\n\n\nPrimeras audiencias en el proceso penal bonaerense.\n\n\n\nEstrategias y errores frecuentes en el proceso\n\n\n\nCómo solicitar una excarcelación y dónde presentarla.\n\n\n\nCómo acompañar a la víctima y al imputado.\n\n\n\nCómo trabajar con los peligros procesales.\n\n\n\n\nESPACIO EXCLUSIVO PARA MATRICULADOS CAM \n\n\n\n▶️Actividad no arancelada▶️Presencial en Brown 1248\, Morón
URL:https://camoron.org.ar/evento/taller-practico-de-derecho-penal-8/
CATEGORIES:Cursos
END:VEVENT
END:VCALENDAR