BEGIN:VCALENDAR
VERSION:2.0
PRODID:-//CAM - ECPv6.15.20//NONSGML v1.0//EN
CALSCALE:GREGORIAN
METHOD:PUBLISH
X-ORIGINAL-URL:https://camoron.org.ar
X-WR-CALDESC:Eventos para CAM
REFRESH-INTERVAL;VALUE=DURATION:PT1H
X-Robots-Tag:noindex
X-PUBLISHED-TTL:PT1H
BEGIN:VTIMEZONE
TZID:America/Argentina/Buenos_Aires
BEGIN:STANDARD
TZOFFSETFROM:-0300
TZOFFSETTO:-0300
TZNAME:-03
DTSTART:20240101T000000
END:STANDARD
END:VTIMEZONE
BEGIN:VEVENT
DTSTART;TZID=America/Argentina/Buenos_Aires:20251203T170000
DTEND;TZID=America/Argentina/Buenos_Aires:20251203T183000
DTSTAMP:20260420T052012
CREATED:20251127T152530Z
LAST-MODIFIED:20251127T152638Z
UID:29450-1764781200-1764786600@camoron.org.ar
SUMMARY:Charla especial en el día de la Discapacidad - EMERGENCIA EN DISCAPACIDAD
DESCRIPTION:Emergencia en Discapacidad y Suspensión de la Ley: implicancias actuales y el Amparo Colectivo de Campana \n\n\n\n Disertante:Dra. Daniela Passarelli Abogada – Mediadora Secretaria de la Comisión de Discapacidad del Colegio de Abogados de Morón \n\n\n\n▶️ Actividad no arancelada▶️Virtual Solicitar acceso a: academicos@camoron.org.ar \n\n\n\nOrganiza: Comisión de Discapacidad – CAM
URL:https://camoron.org.ar/evento/charla-especial-en-el-dia-de-la-discapacidad-emergencia-en-discapacidad/
CATEGORIES:Cursos
END:VEVENT
END:VCALENDAR