BEGIN:VCALENDAR
VERSION:2.0
PRODID:-//CAM - ECPv6.15.20//NONSGML v1.0//EN
CALSCALE:GREGORIAN
METHOD:PUBLISH
X-WR-CALNAME:CAM
X-ORIGINAL-URL:https://camoron.org.ar
X-WR-CALDESC:Eventos para CAM
REFRESH-INTERVAL;VALUE=DURATION:PT1H
X-Robots-Tag:noindex
X-PUBLISHED-TTL:PT1H
BEGIN:VTIMEZONE
TZID:America/Argentina/Buenos_Aires
BEGIN:STANDARD
TZOFFSETFROM:-0300
TZOFFSETTO:-0300
TZNAME:-03
DTSTART:20240101T000000
END:STANDARD
END:VTIMEZONE
BEGIN:VEVENT
DTSTART;TZID=America/Argentina/Buenos_Aires:20251126T000000
DTEND;TZID=America/Argentina/Buenos_Aires:20251126T235959
DTSTAMP:20260420T033025
CREATED:20251104T145337Z
LAST-MODIFIED:20251104T145337Z
UID:29368-1764115200-1764201599@camoron.org.ar
SUMMARY:Reuniones de Institutos: Administrativo/ Comercial\, Concursal y Sociedades/ Ciencia\, Tec e Innovación/Contravencional y Faltas
DESCRIPTION:QUE ES UN INSTITUTO/COMISIÓN?Nuestros Institutos y Comisiones trabajan en el análisis\, contenido e investigación de las distintas áreas del Derecho.Es un ámbito dedicado al intercambio entre colegas para la permanente formación y actualización en el ejercicio profesional.Podes formar parte como miembro permanente o acercarte para resolver una duda o consulta respecto a esa materia.Te invitamos a sumarte a la rama del derecho que más te guste!ESPACIO EXCLUSIVO PARA MATRICULADOS CAM \n\n\n\nComisión de Contravencional y Faltas:▶️Horario: 14:30hs.▶️Modalidad: Presencial en Sede Brown 1248\, Morón▶️No arancelada \n\n\n\nInstituto de Derecho Administrativo:▶️Horario: 14.30hs.▶️Modalidad: En vivo por ZOOM. Para solicitar acceso escribir a academicos@camoron.org.ar▶️No arancelada \n\n\n\nInstituto de Comercial\, Concursal y Sociedades:▶️Horario: 15.30hs.▶️Modalidad: En vivo por ZOOM. Para solicitar acceso escribir a academicos@camoron.org.ar▶️No arancelada \n\n\n\nInstituto de Ciencia\, Tec e Innovación:▶️Horario: 19:00hs▶️Modalidad: En vivo por ZOOM. Para solicitar acceso escribir a academicos@camoron.org.ar
URL:https://camoron.org.ar/evento/reuniones-de-institutos-administrativo-comercial-concursal-y-sociedades-ciencia-tec-e-innovacion-contravencional-y-faltas-3/
CATEGORIES:Reuniones
END:VEVENT
BEGIN:VEVENT
DTSTART;TZID=America/Argentina/Buenos_Aires:20251126T150000
DTEND;TZID=America/Argentina/Buenos_Aires:20251126T170000
DTSTAMP:20260420T033025
CREATED:20251021T190950Z
LAST-MODIFIED:20251021T190951Z
UID:29205-1764169200-1764176400@camoron.org.ar
SUMMARY:Curso Práctico de Consorcios
DESCRIPTION:Taller destinado a adquirir habilidades\, herramientas y conocimientos para el abordaje de conflictos dentro de los consorcios. \n\n\n\nAdministrador: funciones; administrador designado por la empresa constructora- conflicto con propietarios- responsabilidades.Consorcio canales de comunicación a la hora de resolver conflictosAdministrador vs. PropietariosEncargado del edificio- funcionesGastos comunes – expensas ordinarias y extraordinarias: conflicto entre propietarios e inquilinos.Convivencia entre consorcistas- reglamento- conflictos de poder entre propietarios y administradores.Consejo de propietarios: incidencia con el administradorAsambleas: el poder de los propietariosEspacios comunes: ¿quién los puede usar?Código Civil y Comercial en la dinámica de los conflictos de vecinos \n\n\n\nDISERTANTE:Dra. Carolina Vanesa FerrufinoAbogada con más de 26 años ejerciendo en conflictos de propietarios. Especialista en Propiedad Horizontal y Consorcios \n\n\n\nExclusivo Matriculados CAM \n\n\n\n▶️Actividad no arancelada▶️Presencial en Brown 1248\, Morón
URL:https://camoron.org.ar/evento/curso-practico-de-consorcios/
CATEGORIES:Cursos
END:VEVENT
END:VCALENDAR