BEGIN:VCALENDAR
VERSION:2.0
PRODID:-//CAM - ECPv6.15.20//NONSGML v1.0//EN
CALSCALE:GREGORIAN
METHOD:PUBLISH
X-WR-CALNAME:CAM
X-ORIGINAL-URL:https://camoron.org.ar
X-WR-CALDESC:Eventos para CAM
REFRESH-INTERVAL;VALUE=DURATION:PT1H
X-Robots-Tag:noindex
X-PUBLISHED-TTL:PT1H
BEGIN:VTIMEZONE
TZID:America/Argentina/Buenos_Aires
BEGIN:STANDARD
TZOFFSETFROM:-0300
TZOFFSETTO:-0300
TZNAME:-03
DTSTART:20240101T000000
END:STANDARD
END:VTIMEZONE
BEGIN:VEVENT
DTSTART;TZID=America/Argentina/Buenos_Aires:20251120T000000
DTEND;TZID=America/Argentina/Buenos_Aires:20251120T235959
DTSTAMP:20260420T032836
CREATED:20251104T132024Z
LAST-MODIFIED:20251120T134119Z
UID:29345-1763596800-1763683199@camoron.org.ar
SUMMARY:Reuniones de Instituto: Constitucional/Daños y Perjuicios/ del Migrante/Tributario/Derechos Humanos
DESCRIPTION:QUE ES UN INSTITUTO/COMISIÓN?Nuestros Institutos y Comisiones trabajan en el análisis\, contenido e investigación de las distintas áreas del Derecho.Es un ámbito dedicado al intercambio entre colegas para la permanente formación y actualización en el ejercicio profesional.Podes formar parte como miembro permanente o acercarte para resolver una duda o consulta respecto a esa materia.Te invitamos a sumarte a la rama del derecho que más te guste!ESPACIO EXCLUSIVO PARA MATRICULADOS CAM \n\n\n\nInstituto de Constitucional:▶️Horario: 14:30hs.▶️Modalidad: Presencial en Sede Brown 1248\, Morón \n\n\n\nInstituto de Daños y Perjuicios:SUSPENDIDO \n\n\n\nInstituto del Migrante:▶️Horario: 15hs.▶️Modalidad: En vivo por ZOOM. Para solicitar acceso escribir a academicos@camoron.org.ar▶️No arancelada \n\n\n\nInstituto de Derecho Tributario:▶️Horario: 16hs.▶️Modalidad: Presencial en Sede Brown 1248\, Morón▶️No arancelada \n\n\n\nInstituto de Derechos Humanos:▶️Horario: 18hs.▶️Modalidad: En vivo por ZOOM. Para solicitar acceso escribir a academicos@camoron.org.ar▶️No arancelada
URL:https://camoron.org.ar/evento/reuniones-de-instituto-constitucional-danos-y-perjuicios-del-migrante-tributario-derechos-humanos-6/
CATEGORIES:Reuniones
END:VEVENT
BEGIN:VEVENT
DTSTART;TZID=America/Argentina/Buenos_Aires:20251120T150000
DTEND;TZID=America/Argentina/Buenos_Aires:20251120T170000
DTSTAMP:20260420T032836
CREATED:20251006T193221Z
LAST-MODIFIED:20251120T133724Z
UID:29127-1763650800-1763658000@camoron.org.ar
SUMMARY:Evidencia digital e Inteligencia Artificial en el Proceso Penal
DESCRIPTION:Ver Programa \n\n\n\nhttps://drive.google.com/file/d/1gTjiQYJifVxcYcAH47x0lNKF-BYnALcH/view?usp=sharing \n\n\n\nCoordina:Dra. Laura Conti.Jueza de la Cámara de Apelación y Garantías en lo Penal-Sala 2 Departamento Judicial de Morón\, con la destacada participación de invitados especiales. \n\n\n\nDuración: 4 clases – 2 horas por semanaPrimer Clase: Presencial Jueves 30 de OctubreSegunda Clase: Virtual 6 de NoviembreTercera Clase: Virtual Jueves 13 de NoviembreCuarta Clase: Presencial Jueves 20 de Noviembre \n\n\n\n▶️Se entregan certificados ▶️Presencial en Brown 1248\, Morón▶️Virtual Solicitar acceso a: academicos@camoron.org.ar
URL:https://camoron.org.ar/evento/evidencia-digital-e-inteligencia-artificial-en-el-proceso-penal-4/
CATEGORIES:Cursos
END:VEVENT
BEGIN:VEVENT
DTSTART;TZID=America/Argentina/Buenos_Aires:20251120T150000
DTEND;TZID=America/Argentina/Buenos_Aires:20251120T170000
DTSTAMP:20260420T032836
CREATED:20251021T144317Z
LAST-MODIFIED:20251104T161539Z
UID:29198-1763650800-1763658000@camoron.org.ar
SUMMARY:Taller Práctico de Reajuste de Haberes
DESCRIPTION:Diferentes planteos actuales y procedimiento administrativo y judicial \n\n\n\nDISERTANTE:Dr. Marcelo BrasburgAbogado Docente UBA\, especialista en  Seguridad Social\, Integrante Agrupación CONVICCION \n\n\n\nExclusivo Matriculados CAM \n\n\n\nORGANIZA: INSTITUTO DE DERECHO PREVISIONAL▶️Actividad no arancelada▶️Presencial en Brown 1248\, Morón
URL:https://camoron.org.ar/evento/taller-practico-de-reajuste-de-haberes/
CATEGORIES:Cursos
END:VEVENT
BEGIN:VEVENT
DTSTART;TZID=America/Argentina/Buenos_Aires:20251120T150000
DTEND;TZID=America/Argentina/Buenos_Aires:20251120T170000
DTSTAMP:20260420T032836
CREATED:20251031T131151Z
LAST-MODIFIED:20251112T183851Z
UID:29288-1763650800-1763658000@camoron.org.ar
SUMMARY:Cámara Gesell: su parte técnica y su parte práctica. II
DESCRIPTION:Dra. Marina Rueda. Fiscal especializada en Violencia Familia y de GéneroLic. Jorge Prado. Psicólogo esp\, en Niños/as y Violencia de GéneroMg. Elena Borthiry. Titular Asesoría de Incapaces n°2Dra. Karina de Luca. Jueza de GarantíasDr. Juan Antonio Navarro. Defensor ParticularDr. Mario Napoli. Defensor Oficial \n\n\n\nParte Técnica 18/11: \n\n\n\n\nMarco legal\, protocolo\, partes intervinientes\, rol del CTA\, el Asesor de Incapaces y la evaluación previa\n\n\n\nCarácter del acto ¿testimonial o pericial?\n\n\n\nAnticipo de prueba\, pliego de preguntas\n\n\n\nPeritos psicólogos\, reproducción\, valoración\n\n\n\n\n▶️Presencial en Brown 1248\, Morón \n\n\n\nParte Práctica 20/11: \n\n\n\n\nRecreación en el Recinto de Cámara Gesell en Tribunales con los Operadores del sistema.\n\n\n\nVíctima\, Fiscal\, Juez\, Defensor\, Auxiliares y Peritos\n\n\n\nDesarrollo\, el Pliego definitivo y sus contingencias\n\n\n\nPlanteos\, Vías y Recursos\n\n\n\n\n▶️Presencial en Palacio de Tribunales de Morón \n\n\n\nExclusivo Matriculados CAM \n\n\n\nORGANIZA:Área de Derecho Penal y Procesal Penal
URL:https://camoron.org.ar/evento/camara-gesell-su-parte-tecnica-y-su-parte-practica-2/
CATEGORIES:Cursos
END:VEVENT
BEGIN:VEVENT
DTSTART;TZID=America/Argentina/Buenos_Aires:20251120T160000
DTEND;TZID=America/Argentina/Buenos_Aires:20251120T180000
DTSTAMP:20260420T032836
CREATED:20251104T131407Z
LAST-MODIFIED:20251104T131408Z
UID:29343-1763654400-1763661600@camoron.org.ar
SUMMARY:Taller Práctico de Daños
DESCRIPTION:Te ayudamos con tu caso \n\n\n\nA cargo de los miembros del Instituto de Daños y Perjuicios y Responsabilidad Civil \n\n\n\nTrae tus dudas\, tu carpeta\, tu notebook y lo que quieras para que nosotros te ayudamos a resolver tu caso \n\n\n\nACTIVIDAD EXCLUSIVA MATRICULADOS CAM \n\n\n\n▶️Actividad no arancelada▶️Presencial en Brown 1248\, Morón
URL:https://camoron.org.ar/evento/taller-practico-de-danos-9/
CATEGORIES:Cursos
END:VEVENT
END:VCALENDAR