BEGIN:VCALENDAR
VERSION:2.0
PRODID:-//CAM - ECPv6.15.20//NONSGML v1.0//EN
CALSCALE:GREGORIAN
METHOD:PUBLISH
X-ORIGINAL-URL:https://camoron.org.ar
X-WR-CALDESC:Eventos para CAM
REFRESH-INTERVAL;VALUE=DURATION:PT1H
X-Robots-Tag:noindex
X-PUBLISHED-TTL:PT1H
BEGIN:VTIMEZONE
TZID:America/Argentina/Buenos_Aires
BEGIN:STANDARD
TZOFFSETFROM:-0300
TZOFFSETTO:-0300
TZNAME:-03
DTSTART:20240101T000000
END:STANDARD
END:VTIMEZONE
BEGIN:VEVENT
DTSTART;TZID=America/Argentina/Buenos_Aires:20251119T000000
DTEND;TZID=America/Argentina/Buenos_Aires:20251119T235959
DTSTAMP:20260420T033215
CREATED:20251104T130734Z
LAST-MODIFIED:20251104T130734Z
UID:29336-1763510400-1763596799@camoron.org.ar
SUMMARY:Reuniones de Institutos: Procesal Civil/Propiedad Industrial/ Contratos/ Filosofía del Derecho
DESCRIPTION:QUE ES UN INSTITUTO/COMISIÓN?Nuestros Institutos y Comisiones trabajan en el análisis\, contenido e investigación de las distintas áreas del Derecho.Es un ámbito dedicado al intercambio entre colegas para la permanente formación y actualización en el ejercicio profesional.Podes formar parte como miembro permanente o acercarte para resolver una duda o consulta respecto a esa materia.Te invitamos a sumarte a la rama del derecho que más te guste!ESPACIO EXCLUSIVO PARA MATRICULADOS CAM \n\n\n\nInstituto de Procesal Civil:▶️Horario: 14hs.▶️Modalidad: En vivo por ZOOM. Para solicitar acceso escribir a academicos@camoron.org.ar▶️No arancelada \n\n\n\nComisión de Propiedad Industrial:▶️Horario: 14hs.▶️Modalidad: En vivo por ZOOM. Para solicitar acceso escribir a academicos@camoron.org.ar▶️No arancelada \n\n\n\nInstituto de Contratos:▶️Horario: 15hs.▶️Modalidad: Presencial en Sede Brown 1248\, Morón▶️No arancelada \n\n\n\nComisión de Filosofía del Derecho:▶️Horario: 17:30hs.▶️Modalidad: Presencial en Sede Brown 1248\, Morón▶️No arancelada
URL:https://camoron.org.ar/evento/reuniones-de-institutos-procesal-civil-propiedad-industrial-contratos-filosofia-del-derecho-4/
CATEGORIES:Reuniones
END:VEVENT
BEGIN:VEVENT
DTSTART;TZID=America/Argentina/Buenos_Aires:20251119T150000
DTEND;TZID=America/Argentina/Buenos_Aires:20251119T170000
DTSTAMP:20260420T033215
CREATED:20251104T140915Z
LAST-MODIFIED:20251105T120646Z
UID:29347-1763564400-1763571600@camoron.org.ar
SUMMARY:Hablemos sobre discapacidad
DESCRIPTION:Derechos\, acceso a pensiones\, inclusión y fortalecimiento de vida independiente. Una mirada desde el arte y la comunicación \n\n\n\nEXPONEN:Dra. Sandra Lovotrico – ex ANDISClaudio Bernardez \n\n\n\nPresentación del libro ilustrado sobre la Convención Internacional de los Derechos de las Personas con Discapacidad (PCD) \n\n\n\nORGANIZA:Comisión de Discapacidad \n\n\n\nExclusivo Matriculados CAM \n\n\n\n▶️Actividad no arancelada▶️Presencial en Brown 1248\, Morón
URL:https://camoron.org.ar/evento/hablemos-sobre-discapacidad/
CATEGORIES:Cursos
END:VEVENT
BEGIN:VEVENT
DTSTART;TZID=America/Argentina/Buenos_Aires:20251119T160000
DTEND;TZID=America/Argentina/Buenos_Aires:20251119T180000
DTSTAMP:20260420T033215
CREATED:20251104T130945Z
LAST-MODIFIED:20251104T130946Z
UID:29338-1763568000-1763575200@camoron.org.ar
SUMMARY:Taller Práctico de ART
DESCRIPTION:DISERTANTE:Dr. Lucas Garay \n\n\n\nTrae tus dudas\, tu carpeta\, tu notebook y lo que quieras para que nosotros te ayudamos a resolver tu caso \n\n\n\nACTIVIDAD EXCLUSIVA MATRICULADOS CAM \n\n\n\n▶️Actividad no arancelada▶️Presencial en Brown 1248\, Morón
URL:https://camoron.org.ar/evento/taller-practico-de-art-10/
CATEGORIES:Cursos
END:VEVENT
BEGIN:VEVENT
DTSTART;TZID=America/Argentina/Buenos_Aires:20251119T170000
DTEND;TZID=America/Argentina/Buenos_Aires:20251119T183000
DTSTAMP:20260420T033215
CREATED:20251104T131104Z
LAST-MODIFIED:20251104T131206Z
UID:29340-1763571600-1763577000@camoron.org.ar
SUMMARY:Taller Práctico de Derecho Penal
DESCRIPTION:¿HACES PENAL Y TENES MUCHAS DUDAS?Nosotros te vamos a ayudar a resolverlas \n\n\n\nCoordinador: Dr. Gerardo FregaJuez de la Cámara de Apelación y Garantías \n\n\n\n\nPrimeras audiencias en el proceso penal bonaerense.\n\n\n\nEstrategias y errores frecuentes en el proceso\n\n\n\nCómo solicitar una excarcelación y dónde presentarla.\n\n\n\nCómo acompañar a la víctima y al imputado.\n\n\n\nCómo trabajar con los peligros procesales.\n\n\n\n\nEspacio Exclusivo Matriculados CAM \n\n\n\n▶️Actividad no arancelada▶️Presencial en Brown 1248\, Morón
URL:https://camoron.org.ar/evento/taller-practico-de-derecho-penal-2/
CATEGORIES:Cursos
END:VEVENT
END:VCALENDAR