BEGIN:VCALENDAR
VERSION:2.0
PRODID:-//CAM - ECPv6.15.20//NONSGML v1.0//EN
CALSCALE:GREGORIAN
METHOD:PUBLISH
X-ORIGINAL-URL:https://camoron.org.ar
X-WR-CALDESC:Eventos para CAM
REFRESH-INTERVAL;VALUE=DURATION:PT1H
X-Robots-Tag:noindex
X-PUBLISHED-TTL:PT1H
BEGIN:VTIMEZONE
TZID:America/Argentina/Buenos_Aires
BEGIN:STANDARD
TZOFFSETFROM:-0300
TZOFFSETTO:-0300
TZNAME:-03
DTSTART:20240101T000000
END:STANDARD
END:VTIMEZONE
BEGIN:VEVENT
DTSTART;TZID=America/Argentina/Buenos_Aires:20251113T000000
DTEND;TZID=America/Argentina/Buenos_Aires:20251113T235959
DTSTAMP:20260420T033303
CREATED:20251104T123718Z
LAST-MODIFIED:20251112T194542Z
UID:29324-1762992000-1763078399@camoron.org.ar
SUMMARY:Reuniones de Instituto: Salud y Bioética/Seguros/ Reclamo por Daños/Ambiental
DESCRIPTION:QUE ES UN INSTITUTO/COMISIÓN?Nuestros Institutos y Comisiones trabajan en el análisis\, contenido e investigación de las distintas áreas del Derecho.Es un ámbito dedicado al intercambio entre colegas para la permanente formación y actualización en el ejercicio profesional.Podes formar parte como miembro permanente o acercarte para resolver una duda o consulta respecto a esa materia.Te invitamos a sumarte a la rama del derecho que más te guste!ESPACIO EXCLUSIVO PARA MATRICULADOS CAM \n\n\n\nInstituto de Derecho Laboral:▶️SUSPENDIDO \n\n\n\nInstituto de Salud y Bioética:▶️SUSPENDIDO \n\n\n\nInstituto de Seguros:▶️SUSPENDIDO \n\n\n\nInstituto de Reclamo por Daños:▶️Horario: 15hs.▶️Modalidad: En vivo por ZOOM. Para solicitar acceso escribir a academicos@camoron.org.ar▶️No arancelada \n\n\n\nInstituto de Ambiental:▶️Horario: 14:30hs.▶️Modalidad: En vivo por ZOOM. Para solicitar acceso escribir a academicos@camoron.org.ar▶️No arancelada
URL:https://camoron.org.ar/evento/reuniones-de-instituto-laboral-salud-y-bioetica-seguros-reclamo-por-danos-ambiental-4/
CATEGORIES:Reuniones
END:VEVENT
BEGIN:VEVENT
DTSTART;TZID=America/Argentina/Buenos_Aires:20251113T150000
DTEND;TZID=America/Argentina/Buenos_Aires:20251113T170000
DTSTAMP:20260420T033303
CREATED:20251006T193059Z
LAST-MODIFIED:20251006T193241Z
UID:29125-1763046000-1763053200@camoron.org.ar
SUMMARY:Evidencia digital e Inteligencia Artificial en el Proceso Penal
DESCRIPTION:Ver Programa  \n\n\n\nhttps://drive.google.com/file/d/1gTjiQYJifVxcYcAH47x0lNKF-BYnALcH/view?usp=sharing \n\n\n\nCoordina:Dra. Laura Conti.Jueza de la Cámara de Apelación y Garantías en lo Penal-Sala 2 Departamento Judicial de Morón\, con la destacada participación de invitados especiales. \n\n\n\nDuración: 4 clases – 2 horas por semanaPrimer Clase: Presencial Jueves 30 de OctubreSegunda Clase: Virtual 6 de NoviembreTercera Clase: Virtual Jueves 13 de NoviembreCuarta Clase: Virtual Jueves 20 de Noviembre \n\n\n\n▶️Se entregan certificados ▶️Presencial en Brown 1248\, Morón▶️Virtual Solicitar acceso a: academicos@camoron.org.ar
URL:https://camoron.org.ar/evento/evidencia-digital-e-inteligencia-artificial-en-el-proceso-penal-3/
CATEGORIES:Cursos
END:VEVENT
BEGIN:VEVENT
DTSTART;TZID=America/Argentina/Buenos_Aires:20251113T160000
DTEND;TZID=America/Argentina/Buenos_Aires:20251113T180000
DTSTAMP:20260420T033303
CREATED:20251104T123959Z
LAST-MODIFIED:20251104T124000Z
UID:29326-1763049600-1763056800@camoron.org.ar
SUMMARY:Taller Práctico de Daños
DESCRIPTION:Te ayudamos con tu caso \n\n\n\nA cargo de los miembros del Instituto de Daños y Perjuicios y Responsabilidad Civil  \n\n\n\nTrae tus dudas\, tu carpeta\, tu notebook y lo que quieras para que nosotros te ayudamos a resolver tu caso \n\n\n\nACTIVIDAD EXCLUSIVA MATRICULADOS CAM \n\n\n\n▶️Actividad no arancelada▶️Presencial en Brown 1248\, Morón
URL:https://camoron.org.ar/evento/taller-practico-de-danos-8/
CATEGORIES:Cursos
END:VEVENT
END:VCALENDAR