BEGIN:VCALENDAR
VERSION:2.0
PRODID:-//CAM - ECPv6.15.20//NONSGML v1.0//EN
CALSCALE:GREGORIAN
METHOD:PUBLISH
X-ORIGINAL-URL:https://camoron.org.ar
X-WR-CALDESC:Eventos para CAM
REFRESH-INTERVAL;VALUE=DURATION:PT1H
X-Robots-Tag:noindex
X-PUBLISHED-TTL:PT1H
BEGIN:VTIMEZONE
TZID:America/Argentina/Buenos_Aires
BEGIN:STANDARD
TZOFFSETFROM:-0300
TZOFFSETTO:-0300
TZNAME:-03
DTSTART:20240101T000000
END:STANDARD
END:VTIMEZONE
BEGIN:VEVENT
DTSTART;TZID=America/Argentina/Buenos_Aires:20251111T000000
DTEND;TZID=America/Argentina/Buenos_Aires:20251111T235959
DTSTAMP:20260420T033227
CREATED:20251022T145725Z
LAST-MODIFIED:20251104T140718Z
UID:29235-1762819200-1762905599@camoron.org.ar
SUMMARY:Reuniones de Instituto: Comisión de Seguridad/Penal/Derecho Digital y Ciberseguridad
DESCRIPTION:QUE ES UN INSTITUTO/COMISIÓN?Nuestros Institutos y Comisiones trabajan en el análisis\, contenido e investigación de las distintas áreas del Derecho.Es un ámbito dedicado al intercambio entre colegas para la permanente formación y actualización en el ejercicio profesional.Podes formar parte como miembro permanente o acercarte para resolver una duda o consulta respecto a esa materia.Te invitamos a sumarte a la rama del derecho que más te guste!ESPACIO EXCLUSIVO PARA MATRICULADOS CAM \n\n\n\nComisión de Seguridad:▶️Horario: 14:30hs.▶️Modalidad: Presencial en Sede Brown 1248\, Morón▶️No arancelada \n\n\n\nInstituto de Derecho Digital y Ciberseguridad  \n\n\n\n▶️Horario: 15:00hs.▶️Modalidad: En vivo por ZOOM. Para solicitar acceso escribir a academicos@camoron.org.ar▶️No arancelada \n\n\n\nInstituto de Derecho Penal:▶️Horario: 15:00hs.▶️Modalidad: Presencial en Sede Brown 1248\, Morón▶️No arancelada
URL:https://camoron.org.ar/evento/reuniones-de-instituto-comision-de-seguridad-penal-derecho-digital-y-ciberseguridad-2/
CATEGORIES:Reuniones
END:VEVENT
BEGIN:VEVENT
DTSTART;TZID=America/Argentina/Buenos_Aires:20251111T143000
DTEND;TZID=America/Argentina/Buenos_Aires:20251111T160000
DTSTAMP:20260420T033227
CREATED:20251022T144856Z
LAST-MODIFIED:20251022T144856Z
UID:29233-1762871400-1762876800@camoron.org.ar
SUMMARY:Taller Práctico de Derecho de Familia
DESCRIPTION:¡Te invitamos a traer tu caso y resolverlo juntos! \n\n\n\nEspacio Exclusivo Matriculados CAM \n\n\n\n▶️Actividad no arancelada▶️Presencial en Brown 1248\, Morón
URL:https://camoron.org.ar/evento/taller-practico-de-derecho-de-familia-29/
CATEGORIES:Cursos
END:VEVENT
BEGIN:VEVENT
DTSTART;TZID=America/Argentina/Buenos_Aires:20251111T150000
DTEND;TZID=America/Argentina/Buenos_Aires:20251111T170000
DTSTAMP:20260420T033227
CREATED:20251031T190320Z
LAST-MODIFIED:20251031T190321Z
UID:29302-1762873200-1762880400@camoron.org.ar
SUMMARY:La actuación del abogado en el mercado inmobiliario
DESCRIPTION:Mercado inmobiliario para abogados: contratos\, riesgos y oportunidades \n\n\n\n\nEl nuevo perfil del abogado inmobiliario. Cómo combinar seguridad jurídica y visión comercial\n\n\n\nLas fronteras legales entre el martillero y el abogado\n\n\n\nEstrategias legales rentables para el mercado inmobiliario\n\n\n\nCómo construir la marca de abogado inmobiliario Posicionamiento digital\n\n\n\n\nDISERTAN:Dra. Martin Benitez. Director del Instituto de Contratos y de las ObligacionesDra. Carla Martinez Gualco. Especialista en derecho y mercado inmobiliarioDra. Roxana Conejero. Especialista en capacitación sobre derecho inmobiliario \n\n\n\nExclusivo Matriculados CAM \n\n\n\n▶️Actividad no arancelada▶️Presencial en Brown 1248\, Morón \n\n\n\nORGANIZA:Instituto de Contratos y de las Obligaciones
URL:https://camoron.org.ar/evento/la-actuacion-del-abogado-en-el-mercado-inmobiliario/
CATEGORIES:Cursos
END:VEVENT
BEGIN:VEVENT
DTSTART;TZID=America/Argentina/Buenos_Aires:20251111T170000
DTEND;TZID=America/Argentina/Buenos_Aires:20251111T183000
DTSTAMP:20260420T033227
CREATED:20251104T154850Z
LAST-MODIFIED:20251104T154850Z
UID:29376-1762880400-1762885800@camoron.org.ar
SUMMARY:Taller Práctico de Derecho Penal
DESCRIPTION:¿HACES PENAL Y TENES MUCHAS DUDAS?Nosotros te vamos a ayudar a resolverlas \n\n\n\nCoordinador: Dr. Gerardo FregaJuez de la Cámara de Apelación y Garantías \n\n\n\n\nPrimeras audiencias en el proceso penal bonaerense.\n\n\n\nEstrategias y errores frecuentes en el proceso\n\n\n\nCómo solicitar una excarcelación y dónde presentarla.\n\n\n\nCómo acompañar a la víctima y al imputado.\n\n\n\nCómo trabajar con los peligros procesales.\n\n\n\n\n▶️Actividad no arancelada▶️Presencial en Brown 1248\, Morón
URL:https://camoron.org.ar/evento/taller-practico-de-derecho-penal-4/
CATEGORIES:Cursos
END:VEVENT
END:VCALENDAR