BEGIN:VCALENDAR
VERSION:2.0
PRODID:-//CAM - ECPv6.15.20//NONSGML v1.0//EN
CALSCALE:GREGORIAN
METHOD:PUBLISH
X-WR-CALNAME:CAM
X-ORIGINAL-URL:https://camoron.org.ar
X-WR-CALDESC:Eventos para CAM
REFRESH-INTERVAL;VALUE=DURATION:PT1H
X-Robots-Tag:noindex
X-PUBLISHED-TTL:PT1H
BEGIN:VTIMEZONE
TZID:America/Argentina/Buenos_Aires
BEGIN:STANDARD
TZOFFSETFROM:-0300
TZOFFSETTO:-0300
TZNAME:-03
DTSTART:20240101T000000
END:STANDARD
END:VTIMEZONE
BEGIN:VEVENT
DTSTART;TZID=America/Argentina/Buenos_Aires:20251110T000000
DTEND;TZID=America/Argentina/Buenos_Aires:20251110T235959
DTSTAMP:20260420T032929
CREATED:20251022T144540Z
LAST-MODIFIED:20251022T144642Z
UID:29228-1762732800-1762819199@camoron.org.ar
SUMMARY:Reuniones de Institutos: Metodología/Responsabilidad Penal Juvenil/Informatico y Nuevas Tecnologías
DESCRIPTION:QUE ES UN INSTITUTO/COMISIÓN?Nuestros Institutos y Comisiones trabajan en el análisis\, contenido e investigación de las distintas áreas del Derecho.Es un ámbito dedicado al intercambio entre colegas para la permanente formación y actualización en el ejercicio profesional.Podes formar parte como miembro permanente o acercarte para resolver una duda o consulta respecto a esa materia.Te invitamos a sumarte a la rama del derecho que más te guste!ESPACIO EXCLUSIVO PARA MATRICULADOS CAM \n\n\n\nInstituto de Metodología:▶️Horario: 14:30hs.▶️Modalidad: Presencial en Sede Brown 1248\, Morón▶️No arancelada \n\n\n\nInstituto de Responsabilidad Penal Juvenil:▶️Horario: 16:00hs.▶️Modalidad: En vivo por ZOOM. Para solicitar acceso escribir a academicos@camoron.org.ar▶️No arancelada \n\n\n\nInstituto de Informático y Nuevas Tecnologías:▶️Horario: 18:00hs.▶️Modalidad: En vivo por ZOOM. Para solicitar acceso escribir a academicos@camoron.org.ar▶️No arancelada
URL:https://camoron.org.ar/evento/reuniones-de-institutos-metodologia-responsabilidad-penal-juvenil-4/
CATEGORIES:Reuniones
END:VEVENT
BEGIN:VEVENT
DTSTART;TZID=America/Argentina/Buenos_Aires:20251110T143000
DTEND;TZID=America/Argentina/Buenos_Aires:20251110T170000
DTSTAMP:20260420T032929
CREATED:20250912T131827Z
LAST-MODIFIED:20251014T144742Z
UID:28882-1762785000-1762794000@camoron.org.ar
SUMMARY:Ineficacias de Actos Jurídicos derivadas de rasgos emocionales de la neuroescritura
DESCRIPTION:DISERTAN:Dra. Cecilia del Carmen FioritoDoctora en Cs. Jurídicas\, Diplomada en Neurociencias y Derecho\, auditora en gestión de calidad\, Directora del Instituto de NeurocienciasDr. Martin Dario BenítezDoctor en Cs. Jurídicas\, posgraduado en Derechos Reales (UBA)\, Director del Instituto de Contratos y de las ObligacionesLic. Valeria Fernández ZáratePerito calígrafa\, grafoanalisis\, perfilación neuroescritural \n\n\n\nORGANIZA:Instituto de Neurociencias \n\n\n\nADHIERE:Instituto de Contratos y de las Obligaciones \n\n\n\n▶️Actividad no arancelada▶️Presencial en Brown 1248\, Morón
URL:https://camoron.org.ar/evento/ineficacias-de-actos-juridicos-derivadas-de-rasgos-emocionales-de-la-neuroescritura/
CATEGORIES:Cursos
END:VEVENT
END:VCALENDAR