BEGIN:VCALENDAR
VERSION:2.0
PRODID:-//CAM - ECPv6.15.20//NONSGML v1.0//EN
CALSCALE:GREGORIAN
METHOD:PUBLISH
X-ORIGINAL-URL:https://camoron.org.ar
X-WR-CALDESC:Eventos para CAM
REFRESH-INTERVAL;VALUE=DURATION:PT1H
X-Robots-Tag:noindex
X-PUBLISHED-TTL:PT1H
BEGIN:VTIMEZONE
TZID:America/Argentina/Buenos_Aires
BEGIN:STANDARD
TZOFFSETFROM:-0300
TZOFFSETTO:-0300
TZNAME:-03
DTSTART:20240101T000000
END:STANDARD
END:VTIMEZONE
BEGIN:VEVENT
DTSTART;TZID=America/Argentina/Buenos_Aires:20251031T150000
DTEND;TZID=America/Argentina/Buenos_Aires:20251031T170000
DTSTAMP:20260419T231056
CREATED:20251017T124707Z
LAST-MODIFIED:20251017T125550Z
UID:29183-1761922800-1761930000@camoron.org.ar
SUMMARY:TRÁMITES EN EL REGISTRO DE LA PROPIEDAD INMUEBLE DELEGACIÓN MORON
DESCRIPTION:Descubrí qué gestiones podés realizar directamente en la Delegación Morón del Registro de la Propiedad Inmueble. Optimizá tiempos\, conocé los requisitos y evitá viajar hasta La Plata. \n\n\n\nDISERTANTE:Fernando Emmanuel RoblesAbogado. Escribano. Martillero y Corredor Público e Inmobiliario. Agente Técnico del Registro de Propiedad Inmueble de la Provincia de Buenos Aires. Docente Universitario de Derechos Reales \n\n\n\nExclusivo Matriculados CAM \n\n\n\nORGANIZA: INSTITUTO DE DERECHO NOTARIAL \n\n\n\n▶️Actividad no arancelada▶️Presencial en Brown 1248\, Morón
URL:https://camoron.org.ar/evento/tramites-en-el-registro-de-la-propiedad-inmueble-delegacion-moron/
CATEGORIES:Cursos
END:VEVENT
END:VCALENDAR