BEGIN:VCALENDAR
VERSION:2.0
PRODID:-//CAM - ECPv6.15.20//NONSGML v1.0//EN
CALSCALE:GREGORIAN
METHOD:PUBLISH
X-ORIGINAL-URL:https://camoron.org.ar
X-WR-CALDESC:Eventos para CAM
REFRESH-INTERVAL;VALUE=DURATION:PT1H
X-Robots-Tag:noindex
X-PUBLISHED-TTL:PT1H
BEGIN:VTIMEZONE
TZID:America/Argentina/Buenos_Aires
BEGIN:STANDARD
TZOFFSETFROM:-0300
TZOFFSETTO:-0300
TZNAME:-03
DTSTART:20240101T000000
END:STANDARD
END:VTIMEZONE
BEGIN:VEVENT
DTSTART;TZID=America/Argentina/Buenos_Aires:20251029T160000
DTEND;TZID=America/Argentina/Buenos_Aires:20251029T180000
DTSTAMP:20260419T201705
CREATED:20250924T190429Z
LAST-MODIFIED:20250930T155445Z
UID:28975-1761753600-1761760800@camoron.org.ar
SUMMARY:Taller Práctico de ART
DESCRIPTION:DISERTANTE:Dr. Lucas Garay \n\n\n\nTrae tus dudas\, tu carpeta\, tu notebook y lo que quieras para que nosotros te ayudamos a resolver tu caso \n\n\n\nACTIVIDAD EXCLUSIVA MATRICULADOS CAM \n\n\n\n▶️Actividad no arancelada▶️Presencial en Brown 1248\, Morón
URL:https://camoron.org.ar/evento/taller-practico-de-art-6/
CATEGORIES:Cursos
END:VEVENT
END:VCALENDAR