BEGIN:VCALENDAR
VERSION:2.0
PRODID:-//CAM - ECPv6.15.20//NONSGML v1.0//EN
CALSCALE:GREGORIAN
METHOD:PUBLISH
X-WR-CALNAME:CAM
X-ORIGINAL-URL:https://camoron.org.ar
X-WR-CALDESC:Eventos para CAM
REFRESH-INTERVAL;VALUE=DURATION:PT1H
X-Robots-Tag:noindex
X-PUBLISHED-TTL:PT1H
BEGIN:VTIMEZONE
TZID:America/Argentina/Buenos_Aires
BEGIN:STANDARD
TZOFFSETFROM:-0300
TZOFFSETTO:-0300
TZNAME:-03
DTSTART:20240101T000000
END:STANDARD
END:VTIMEZONE
BEGIN:VEVENT
DTSTART;TZID=America/Argentina/Buenos_Aires:20251028T000000
DTEND;TZID=America/Argentina/Buenos_Aires:20251028T235959
DTSTAMP:20260419T190042
CREATED:20250930T155230Z
LAST-MODIFIED:20250930T155231Z
UID:29061-1761609600-1761695999@camoron.org.ar
SUMMARY:Reuniones de Instituto: Comisión de Seguridad/Procesal Penal/Derecho Digital y Ciberseguridad
DESCRIPTION:QUE ES UN INSTITUTO/COMISIÓN?Nuestros Institutos y Comisiones trabajan en el análisis\, contenido e investigación de las distintas áreas del Derecho.Es un ámbito dedicado al intercambio entre colegas para la permanente formación y actualización en el ejercicio profesional.Podes formar parte como miembro permanente o acercarte para resolver una duda o consulta respecto a esa materia.Te invitamos a sumarte a la rama del derecho que más te guste!ESPACIO EXCLUSIVO PARA MATRICULADOS CAM \n\n\n\nComisión de Seguridad:▶️Horario: 14:30hs.▶️Modalidad: En vivo por ZOOM. Para solicitar acceso escribir a academicos@camoron.org.ar▶️No arancelada \n\n\n\nInstituto de Procesal Penal:▶️Horario: 15:00hs.▶️Modalidad: Presencial▶️No arancelada \n\n\n\nInstituto de Derecho Digital y Ciberseguridad  \n\n\n\n▶️Horario: 15:00hs.▶️Modalidad: En vivo por ZOOM. Para solicitar acceso escribir a academicos@camoron.org.ar▶️No arancelada
URL:https://camoron.org.ar/evento/reuniones-de-instituto-comision-de-seguridad-procesal-penal-derecho-digital-y-ciberseguridad-2/
CATEGORIES:Reuniones
END:VEVENT
BEGIN:VEVENT
DTSTART;TZID=America/Argentina/Buenos_Aires:20251028T143000
DTEND;TZID=America/Argentina/Buenos_Aires:20251028T163000
DTSTAMP:20260419T190042
CREATED:20250930T154619Z
LAST-MODIFIED:20250930T154619Z
UID:29059-1761661800-1761669000@camoron.org.ar
SUMMARY:Taller Práctico de Derecho de Familia
DESCRIPTION:¡Te invitamos a traer tu caso y resolverlo juntos! \n\n\n\nEspacio Exclusivo Matriculados CAM \n\n\n\n▶️Actividad no arancelada▶️Presencial en Brown 1248\, Morón
URL:https://camoron.org.ar/evento/taller-practico-de-derecho-de-familia-27/
CATEGORIES:Cursos
END:VEVENT
BEGIN:VEVENT
DTSTART;TZID=America/Argentina/Buenos_Aires:20251028T170000
DTEND;TZID=America/Argentina/Buenos_Aires:20251028T183000
DTSTAMP:20260419T190042
CREATED:20251028T124742Z
LAST-MODIFIED:20251028T124742Z
UID:29272-1761670800-1761676200@camoron.org.ar
SUMMARY:Taller Práctico de Derecho Penal
DESCRIPTION:¿HACES PENAL Y TENES MUCHAS DUDAS?Nosotros te vamos a ayudar a resolverlas \n\n\n\nCoordinador: Dr. Gerardo FregaJuez de la Cámara de Apelación y Garantías \n\n\n\n\nPrimeras audiencias en el proceso penal bonaerense.\n\n\n\nEstrategias y errores frecuentes en el proceso\n\n\n\nCómo solicitar una excarcelación y dónde presentarla.\n\n\n\nCómo acompañar a la víctima y al imputado.\n\n\n\nCómo trabajar con los peligros procesales.\n\n\n\n\n▶️Actividad no arancelada▶️Presencial en Brown 1248\, Morón
URL:https://camoron.org.ar/evento/taller-practico-de-derecho-penal/
CATEGORIES:Cursos
END:VEVENT
END:VCALENDAR