BEGIN:VCALENDAR
VERSION:2.0
PRODID:-//CAM - ECPv6.15.20//NONSGML v1.0//EN
CALSCALE:GREGORIAN
METHOD:PUBLISH
X-ORIGINAL-URL:https://camoron.org.ar
X-WR-CALDESC:Eventos para CAM
REFRESH-INTERVAL;VALUE=DURATION:PT1H
X-Robots-Tag:noindex
X-PUBLISHED-TTL:PT1H
BEGIN:VTIMEZONE
TZID:America/Argentina/Buenos_Aires
BEGIN:STANDARD
TZOFFSETFROM:-0300
TZOFFSETTO:-0300
TZNAME:-03
DTSTART:20240101T000000
END:STANDARD
END:VTIMEZONE
BEGIN:VEVENT
DTSTART;TZID=America/Argentina/Buenos_Aires:20251027T000000
DTEND;TZID=America/Argentina/Buenos_Aires:20251027T235959
DTSTAMP:20260419T171250
CREATED:20250930T154039Z
LAST-MODIFIED:20250930T154039Z
UID:29056-1761523200-1761609599@camoron.org.ar
SUMMARY:Reuniones de Institutos: Responsabilidad Penal Juvenil/ Informático y Nuevas Tecnologías
DESCRIPTION:QUE ES UN INSTITUTO/COMISIÓN?Nuestros Institutos y Comisiones trabajan en el análisis\, contenido e investigación de las distintas áreas del Derecho.Es un ámbito dedicado al intercambio entre colegas para la permanente formación y actualización en el ejercicio profesional.Podes formar parte como miembro permanente o acercarte para resolver una duda o consulta respecto a esa materia.Te invitamos a sumarte a la rama del derecho que más te guste!ESPACIO EXCLUSIVO PARA MATRICULADOS CAM \n\n\n\nInstituto de Responsabilidad Penal Juvenil:▶️Horario: 16:00hs.▶️Modalidad: En vivo por ZOOM. Para solicitar acceso escribir a academicos@camoron.org.ar▶️No arancelada \n\n\n\nInstituto de Derecho Informático y Nuevas Tecnologías:▶️Horario: 15:30hs.▶️Modalidad: Presencial ▶️No arancelada
URL:https://camoron.org.ar/evento/reuniones-de-institutos-responsabilidad-penal-juvenil-informatico-y-nuevas-tecnologias/
CATEGORIES:Reuniones
END:VEVENT
END:VCALENDAR