BEGIN:VCALENDAR
VERSION:2.0
PRODID:-//CAM - ECPv6.15.20//NONSGML v1.0//EN
CALSCALE:GREGORIAN
METHOD:PUBLISH
X-ORIGINAL-URL:https://camoron.org.ar
X-WR-CALDESC:Eventos para CAM
REFRESH-INTERVAL;VALUE=DURATION:PT1H
X-Robots-Tag:noindex
X-PUBLISHED-TTL:PT1H
BEGIN:VTIMEZONE
TZID:America/Argentina/Buenos_Aires
BEGIN:STANDARD
TZOFFSETFROM:-0300
TZOFFSETTO:-0300
TZNAME:-03
DTSTART:20240101T000000
END:STANDARD
END:VTIMEZONE
BEGIN:VEVENT
DTSTART;TZID=America/Argentina/Buenos_Aires:20250924T000000
DTEND;TZID=America/Argentina/Buenos_Aires:20250924T235959
DTSTAMP:20260420T053704
CREATED:20250911T155954Z
LAST-MODIFIED:20250911T155955Z
UID:28856-1758672000-1758758399@camoron.org.ar
SUMMARY:Reuniones de Institutos: Administrativo/ Contravencional y Faltas/ Ejecución Penal/ Ciencia\, Tec e Innovación
DESCRIPTION:QUE ES UN INSTITUTO/COMISIÓN?Nuestros Institutos y Comisiones trabajan en el análisis\, contenido e investigación de las distintas áreas del Derecho.Es un ámbito dedicado al intercambio entre colegas para la permanente formación y actualización en el ejercicio profesional.Podes formar parte como miembro permanente o acercarte para resolver una duda o consulta respecto a esa materia.Te invitamos a sumarte a la rama del derecho que más te guste!ESPACIO EXCLUSIVO PARA MATRICULADOS CAM \n\n\n\nInstituto de Derecho Administrativo:▶️Horario: 14.30hs.▶️Modalidad: En vivo por ZOOM. Para solicitar acceso escribir a academicos@camoron.org.ar▶️No arancelada \n\n\n\nComisión de Contravencional y Faltas:▶️Horario: 14:30hs.▶️Modalidad: Presencial en Sede Brown 1248\, Morón▶️No arancelada \n\n\n\nInstituto de Ejecución Penal:▶️Horario: 15hs.▶️Modalidad: Presencial en Sede Brown 1248\, Morón▶️No arancelada
URL:https://camoron.org.ar/evento/reuniones-de-institutos-administrativo-contravencional-y-faltas-ejecucion-penal-ciencia-tec-e-innovacion/
CATEGORIES:Reuniones
END:VEVENT
BEGIN:VEVENT
DTSTART;TZID=America/Argentina/Buenos_Aires:20250924T150000
DTEND;TZID=America/Argentina/Buenos_Aires:20250924T170000
DTSTAMP:20260420T053704
CREATED:20250812T163900Z
LAST-MODIFIED:20250812T173447Z
UID:28687-1758726000-1758733200@camoron.org.ar
SUMMARY:El fideicomiso y su caracterización. Su aplicación en materia inmobiliaria
DESCRIPTION:DISERTANTE:Dr. Fernando Javier MarcosAbogado. Doctor en Cs. Juridicas. Especialista en Asesoría Jurídica de Empresas. Docente universitario de grado\, posgrado y doctorado UCES\, UBA\, UCA y UNLAM. Sub Director del Instituto de Derecho Comercial del CPACF. \n\n\n\nTEMAS A TRATAR:Elementos del contrato de fideicomiso.Obligaciones de las partes.Clases de fideicomiso.El fideicomiso inmobiliario. Situación del adquirente.Actuación ante la liquidación del fideicomiso. \n\n\n\nORGANIZA:Instituto de Derecho de Comercial (DIRECTOR DR. MARCELO SPANGHERO) \n\n\n\n▶️Actividad no arancelada▶️Virtual vía ZOOM. Solicitar enlace a academicos@camoron.org.ar
URL:https://camoron.org.ar/evento/el-fideicomiso-y-su-caracterizacion-su-aplicacion-en-materia-inmobiliaria/
CATEGORIES:Cursos
END:VEVENT
BEGIN:VEVENT
DTSTART;TZID=America/Argentina/Buenos_Aires:20250924T160000
DTEND;TZID=America/Argentina/Buenos_Aires:20250924T180000
DTSTAMP:20260420T053704
CREATED:20250901T162836Z
LAST-MODIFIED:20250901T162836Z
UID:28774-1758729600-1758736800@camoron.org.ar
SUMMARY:Taller Práctico de ART
DESCRIPTION:DISERTANTE:Dr. Lucas Garay \n\n\n\nTrae tus dudas\, tu carpeta\, tu notebook y lo que quieras para que nosotros te ayudamos a resolver tu caso \n\n\n\nACTIVIDAD EXCLUSIVA MATRICULADOS CAM \n\n\n\n▶️Actividad no arancelada▶️Presencial en Brown 1248\, Morón
URL:https://camoron.org.ar/evento/taller-practico-de-art-4/
CATEGORIES:Cursos
END:VEVENT
END:VCALENDAR