BEGIN:VCALENDAR
VERSION:2.0
PRODID:-//CAM - ECPv6.15.20//NONSGML v1.0//EN
CALSCALE:GREGORIAN
METHOD:PUBLISH
X-ORIGINAL-URL:https://camoron.org.ar
X-WR-CALDESC:Eventos para CAM
REFRESH-INTERVAL;VALUE=DURATION:PT1H
X-Robots-Tag:noindex
X-PUBLISHED-TTL:PT1H
BEGIN:VTIMEZONE
TZID:America/Argentina/Buenos_Aires
BEGIN:STANDARD
TZOFFSETFROM:-0300
TZOFFSETTO:-0300
TZNAME:-03
DTSTART:20240101T000000
END:STANDARD
END:VTIMEZONE
BEGIN:VEVENT
DTSTART;TZID=America/Argentina/Buenos_Aires:20250923T000000
DTEND;TZID=America/Argentina/Buenos_Aires:20250923T235959
DTSTAMP:20260422T054106
CREATED:20250911T155043Z
LAST-MODIFIED:20250923T140056Z
UID:28853-1758585600-1758671999@camoron.org.ar
SUMMARY:Reuniones de Instituto: Comisión de Seguridad/Procesal Penal/Derecho Digital y Ciberseguridad
DESCRIPTION:QUE ES UN INSTITUTO/COMISIÓN?Nuestros Institutos y Comisiones trabajan en el análisis\, contenido e investigación de las distintas áreas del Derecho.Es un ámbito dedicado al intercambio entre colegas para la permanente formación y actualización en el ejercicio profesional.Podes formar parte como miembro permanente o acercarte para resolver una duda o consulta respecto a esa materia.Te invitamos a sumarte a la rama del derecho que más te guste!ESPACIO EXCLUSIVO PARA MATRICULADOS CAM \n\n\n\nComisión de Seguridad:▶️Horario: 14:30hs.▶️Modalidad: En vivo por ZOOM. Para solicitar acceso escribir a academicos@camoron.org.ar▶️No arancelada \n\n\n\nInstituto de Procesal Penal:❗ Suspendido \n\n\n\nInstituto de Derecho Digital y Ciberseguridad  \n\n\n\n▶️Horario: 15:00hs.▶️Modalidad: En vivo por ZOOM. Para solicitar acceso escribir a academicos@camoron.org.ar▶️No arancelada
URL:https://camoron.org.ar/evento/reuniones-de-instituto-comision-de-seguridad-procesal-penal-derecho-digital-y-ciberseguridad/
CATEGORIES:Reuniones
END:VEVENT
BEGIN:VEVENT
DTSTART;TZID=America/Argentina/Buenos_Aires:20250923T143000
DTEND;TZID=America/Argentina/Buenos_Aires:20250923T163000
DTSTAMP:20260422T054106
CREATED:20250908T193610Z
LAST-MODIFIED:20250908T193740Z
UID:28833-1758637800-1758645000@camoron.org.ar
SUMMARY:Taller Práctico de Derecho de Familia
DESCRIPTION:¡Te invitamos a traer tu caso y resolverlo juntos! \n\n\n\nEspacio Exclusivo Matriculados CAM \n\n\n\n▶️Actividad no arancelada▶️Presencial en Brown 1248\, Morón
URL:https://camoron.org.ar/evento/taller-practico-de-derecho-de-familia-22/
CATEGORIES:Cursos
END:VEVENT
BEGIN:VEVENT
DTSTART;TZID=America/Argentina/Buenos_Aires:20250923T160000
DTEND;TZID=America/Argentina/Buenos_Aires:20250923T193000
DTSTAMP:20260422T054106
CREATED:20250908T183611Z
LAST-MODIFIED:20250917T175215Z
UID:28831-1758643200-1758655800@camoron.org.ar
SUMMARY:Feria del Libro CAM
DESCRIPTION:Stands de distintas editoriales\, sorteo de libros y show del Ensamble Musical CAM \n\n\n\nSe presentaran los libros:“Revista de Derecho Privado”Directores: Dres. Martin Benitez e Ignacio Ferreira MoraisLa segunda obra de Ediciones CAM \n\n\n\n“La Soledad de los bichos raros”Autor: Dr. Jorge Oscar RossiEdiciones Algoritmo Literario\, de Editorial Algoritmo\, que además ofrecerá un plan especial de edición para los matriculados CAM que quieran publicar sus obras académicas o de ficción. \n\n\n\n▶️Actividad no arancelada▶️Presencial en Brown 1248\, Morón
URL:https://camoron.org.ar/evento/feria-del-libro-cam/
CATEGORIES:Cursos
END:VEVENT
END:VCALENDAR