BEGIN:VCALENDAR
VERSION:2.0
PRODID:-//CAM - ECPv6.15.20//NONSGML v1.0//EN
CALSCALE:GREGORIAN
METHOD:PUBLISH
X-ORIGINAL-URL:https://camoron.org.ar
X-WR-CALDESC:Eventos para CAM
REFRESH-INTERVAL;VALUE=DURATION:PT1H
X-Robots-Tag:noindex
X-PUBLISHED-TTL:PT1H
BEGIN:VTIMEZONE
TZID:America/Argentina/Buenos_Aires
BEGIN:STANDARD
TZOFFSETFROM:-0300
TZOFFSETTO:-0300
TZNAME:-03
DTSTART:20240101T000000
END:STANDARD
END:VTIMEZONE
BEGIN:VEVENT
DTSTART;TZID=America/Argentina/Buenos_Aires:20250919T000000
DTEND;TZID=America/Argentina/Buenos_Aires:20250919T235959
DTSTAMP:20260422T111801
CREATED:20250911T153334Z
LAST-MODIFIED:20250911T153334Z
UID:28849-1758240000-1758326399@camoron.org.ar
SUMMARY:Reuniones de Institutos y Comisiones: Práctica Profesional/ Cuestiones Penitenciarias/ Genero / Sucesiones
DESCRIPTION:QUE ES UN INSTITUTO/COMISIÓN?Nuestros Institutos y Comisiones trabajan en el análisis\, contenido e investigación de las distintas áreas del Derecho.Es un ámbito dedicado al intercambio entre colegas para la permanente formación y actualización en el ejercicio profesional.Podes formar parte como miembro permanente o acercarte para resolver una duda o consulta respecto a esa materia.Te invitamos a sumarte a la rama del derecho que más te guste!ESPACIO EXCLUSIVO PARA MATRICULADOS CAM \n\n\n\nInstituto de Previsional:▶️Horario: 14:30hs.▶️Modalidad: Presencial en Sede Brown 1248\, Morón▶️No arancelada \n\n\n\nInstituto de Práctica Profesional:▶️Horario: 15hs.▶️Modalidad: Presencial en Sede Brown 1248\, Morón▶️No arancelada \n\n\n\nComisión de Cuestiones Penitenciarias:▶️Horario: 15hs.▶️Modalidad: Presencial en Sede Brown 1248\, Morón▶️No arancelada \n\n\n\nInstituto de Sucesiones:▶️Horario: 15:30hs.▶️Modalidad: Presencial en Sede Brown 1248\, Morón▶️No arancelada \n\n\n\nInstituto de Género:▶️Horario: 15hs.▶️Modalidad: Presencial en Sede Brown 1248\, Morón▶️No arancelada
URL:https://camoron.org.ar/evento/reuniones-de-institutos-y-comisiones-practica-profesional-cuestiones-penitenciarias-genero-sucesiones-2/
CATEGORIES:Reuniones
END:VEVENT
BEGIN:VEVENT
DTSTART;TZID=America/Argentina/Buenos_Aires:20250919T153000
DTEND;TZID=America/Argentina/Buenos_Aires:20250919T170000
DTSTAMP:20260422T111801
CREATED:20250915T153650Z
LAST-MODIFIED:20250915T153720Z
UID:28933-1758295800-1758301200@camoron.org.ar
SUMMARY:Taller práctico de Token
DESCRIPTION:Inicios en el sistema de presentaciones y notificaciones electrónicas \n\n\n\nTrae tu PC y tus dudasTe ayudamos a resolverlas! \n\n\n\nExclusivo Matriculados CAM \n\n\n\nORGANIZAN:INSTITUTO DE DERECHO INFORMÁTICO Y NUEVAS TECNOLOGÍASÁREA DE COMUNICACIÓN CON NUEVOS MATRICULADOS
URL:https://camoron.org.ar/evento/taller-practico-de-token/
CATEGORIES:Cursos
END:VEVENT
END:VCALENDAR