BEGIN:VCALENDAR
VERSION:2.0
PRODID:-//CAM - ECPv6.15.20//NONSGML v1.0//EN
CALSCALE:GREGORIAN
METHOD:PUBLISH
X-WR-CALNAME:CAM
X-ORIGINAL-URL:https://camoron.org.ar
X-WR-CALDESC:Eventos para CAM
REFRESH-INTERVAL;VALUE=DURATION:PT1H
X-Robots-Tag:noindex
X-PUBLISHED-TTL:PT1H
BEGIN:VTIMEZONE
TZID:America/Argentina/Buenos_Aires
BEGIN:STANDARD
TZOFFSETFROM:-0300
TZOFFSETTO:-0300
TZNAME:-03
DTSTART:20240101T000000
END:STANDARD
END:VTIMEZONE
BEGIN:VEVENT
DTSTART;TZID=America/Argentina/Buenos_Aires:20250918T000000
DTEND;TZID=America/Argentina/Buenos_Aires:20250918T235959
DTSTAMP:20260422T125554
CREATED:20250911T152454Z
LAST-MODIFIED:20250911T153410Z
UID:28847-1758153600-1758239999@camoron.org.ar
SUMMARY:Reuniones de Instituto: Constitucional/ Daños y Perjuicios/ del Migrante/ Tributario/ Derechos Humanos
DESCRIPTION:QUE ES UN INSTITUTO/COMISIÓN?Nuestros Institutos y Comisiones trabajan en el análisis\, contenido e investigación de las distintas áreas del Derecho.Es un ámbito dedicado al intercambio entre colegas para la permanente formación y actualización en el ejercicio profesional.Podes formar parte como miembro permanente o acercarte para resolver una duda o consulta respecto a esa materia.Te invitamos a sumarte a la rama del derecho que más te guste!ESPACIO EXCLUSIVO PARA MATRICULADOS CAM \n\n\n\nInstituto de Constitucional:▶️Horario: 14:30hs.▶️Modalidad: Presencial en Sede Brown 1248\, Morón▶️No arancelada \n\n\n\nInstituto de Daños y Perjuicios:▶️Horario: 14:30hs.▶️Modalidad: Presencial en Sede Brown 1248\, Morón▶️No arancelada \n\n\n\nInstituto del Migrante:▶️Horario: 15hs.▶️Modalidad: En vivo por ZOOM. Para solicitar acceso escribir a academicos@camoron.org.ar▶️No arancelada \n\n\n\nInstituto de Derecho Tributario:▶️Horario: 16hs.▶️Modalidad: Presencial en Sede Brown 1248\, Morón▶️No arancelada \n\n\n\nInstituto de Derechos Humanos:▶️Horario: 18hs.▶️Modalidad: En vivo por ZOOM. Para solicitar acceso escribir a academicos@camoron.org.ar▶️No arancelada
URL:https://camoron.org.ar/evento/reuniones-de-instituto-constitucional-danos-y-perjuicios-del-migrante-tributario-derechos-humanos-4/
CATEGORIES:Reuniones
END:VEVENT
BEGIN:VEVENT
DTSTART;TZID=America/Argentina/Buenos_Aires:20250918T143000
DTEND;TZID=America/Argentina/Buenos_Aires:20250918T170000
DTSTAMP:20260422T125554
CREATED:20250902T180016Z
LAST-MODIFIED:20250902T180016Z
UID:28788-1758205800-1758214800@camoron.org.ar
SUMMARY:Contrato paritario vs. Contrato de trabajo
DESCRIPTION:TEMARIO: \n\n\n\n\nAplicación de la normativa civil a las relaciones laborales.\n\n\n\nResponsabilidad de los administradores y representantes de sociedades frente al trabajador.\n\n\n\nSoluciones del derecho civil frente a la problemática de la “Ley Bases”.\n\n\n\nCasos prácticos y sentencias destacadas.\n\n\n\n\nExclusivo Matriculados CAM o estudiantes de Derecho \n\n\n\nORGANIZAN:INSTITUTO DE CONTRATOS Y DE LAS OBLIGACIONES (DIRECTOR DR. MARTIN BENITEZ)ÁREA DE DERECHO LABORAL (DIRECTOR DR. SERGIO ARCE) \n\n\n\n▶️Actividad no arancelada▶️Presencial en Brown 1248\, Morón
URL:https://camoron.org.ar/evento/contrato-paritario-vs-contrato-de-trabajo/
CATEGORIES:Cursos
END:VEVENT
BEGIN:VEVENT
DTSTART;TZID=America/Argentina/Buenos_Aires:20250918T160000
DTEND;TZID=America/Argentina/Buenos_Aires:20250918T180000
DTSTAMP:20260422T125554
CREATED:20250908T164215Z
LAST-MODIFIED:20250908T165715Z
UID:28815-1758211200-1758218400@camoron.org.ar
SUMMARY:Taller Práctico de Daños
DESCRIPTION:Te ayudamos con tu caso \n\n\n\nA cargo de los miembros del Instituto de Daños y Perjuicios y Responsabilidad Civil  \n\n\n\nTrae tus dudas\, tu carpeta\, tu notebook y lo que quieras para que nosotros te ayudamos a resolver tu caso \n\n\n\nACTIVIDAD EXCLUSIVA MATRICULADOS CAM \n\n\n\n▶️Actividad no arancelada▶️Presencial en Brown 1248\, Morón
URL:https://camoron.org.ar/evento/taller-practico-de-danos-2/
CATEGORIES:Cursos
END:VEVENT
END:VCALENDAR