BEGIN:VCALENDAR
VERSION:2.0
PRODID:-//CAM - ECPv6.15.20//NONSGML v1.0//EN
CALSCALE:GREGORIAN
METHOD:PUBLISH
X-ORIGINAL-URL:https://camoron.org.ar
X-WR-CALDESC:Eventos para CAM
REFRESH-INTERVAL;VALUE=DURATION:PT1H
X-Robots-Tag:noindex
X-PUBLISHED-TTL:PT1H
BEGIN:VTIMEZONE
TZID:America/Argentina/Buenos_Aires
BEGIN:STANDARD
TZOFFSETFROM:-0300
TZOFFSETTO:-0300
TZNAME:-03
DTSTART:20240101T000000
END:STANDARD
END:VTIMEZONE
BEGIN:VEVENT
DTSTART;TZID=America/Argentina/Buenos_Aires:20250917T000000
DTEND;TZID=America/Argentina/Buenos_Aires:20250917T235959
DTSTAMP:20260422T142452
CREATED:20250807T155434Z
LAST-MODIFIED:20250807T155435Z
UID:28668-1758067200-1758153599@camoron.org.ar
SUMMARY:Reuniones de Institutos y Comisiones: Procesal Civil/ Propiedad Industrial/ Filosofía del Derecho/ Contratos
DESCRIPTION:QUE ES UN INSTITUTO/COMISIÓN?Nuestros Institutos y Comisiones trabajan en el análisis\, contenido e investigación de las distintas áreas del Derecho.Es un ámbito dedicado al intercambio entre colegas para la permanente formación y actualización en el ejercicio profesional.Podes formar parte como miembro permanente o acercarte para resolver una duda o consulta respecto a esa materia.Te invitamos a sumarte a la rama del derecho que más te guste!ESPACIO EXCLUSIVO PARA MATRICULADOS CAM \n\n\n\nInstituto de Procesal Civil:▶️Horario: 14hs.▶️Modalidad: En vivo por ZOOM. Para solicitar acceso escribir a academicos@camoron.org.ar▶️No arancelada \n\n\n\nComisión de Propiedad Industrial:▶️Horario: 14hs.▶️Modalidad: En vivo por ZOOM. Para solicitar acceso escribir a academicos@camoron.org.ar▶️No arancelada \n\n\n\nInstituto de Contratos:▶️Horario: 15hs.▶️Modalidad: Presencial en Sede Brown 1248\, Morón▶️No arancelada \n\n\n\nComisión de Filosofía del Derecho:▶️Horario: 17:30hs.▶️Modalidad: Presencial en Sede Brown 1248\, Morón▶️No arancelada
URL:https://camoron.org.ar/evento/reuniones-de-institutos-y-comisiones-procesal-civil-propiedad-industrial-filosofia-del-derecho-contratos/
CATEGORIES:Reuniones
END:VEVENT
BEGIN:VEVENT
DTSTART;TZID=America/Argentina/Buenos_Aires:20250917T160000
DTEND;TZID=America/Argentina/Buenos_Aires:20250917T180000
DTSTAMP:20260422T142452
CREATED:20250901T162753Z
LAST-MODIFIED:20250901T162753Z
UID:28772-1758124800-1758132000@camoron.org.ar
SUMMARY:Taller Práctico de ART
DESCRIPTION:DISERTANTE:Dr. Lucas Garay \n\n\n\nTrae tus dudas\, tu carpeta\, tu notebook y lo que quieras para que nosotros te ayudamos a resolver tu caso \n\n\n\nACTIVIDAD EXCLUSIVA MATRICULADOS CAM \n\n\n\n▶️Actividad no arancelada▶️Presencial en Brown 1248\, Morón
URL:https://camoron.org.ar/evento/taller-practico-de-art-3/
CATEGORIES:Cursos
END:VEVENT
BEGIN:VEVENT
DTSTART;TZID=America/Argentina/Buenos_Aires:20250917T170000
DTEND;TZID=America/Argentina/Buenos_Aires:20250917T190000
DTSTAMP:20260422T142452
CREATED:20250731T141917Z
LAST-MODIFIED:20250901T152635Z
UID:28551-1758128400-1758135600@camoron.org.ar
SUMMARY:REFORMA POLICIAL Y DERECHOS HUMANOS
DESCRIPTION:DISERTA:Dr. Luis María Bunge CamposAbogado Docente y Doctor en Derecho Penal (UBA) \n\n\n\nMODERAN:Dra. Julieta BenitezDr. Juan Navarro GonzálezDr. Cristian Callegari \n\n\n\nORGANIZAN:COMISIÓN DE ABOGACÍA JOVENINSTITUTO DE FILOSOFIA DEL DERECHOÁREA DE DERECHO PENAL Y PROCESAL PENAL \n\n\n\n▶️Actividad no arancelada▶️Presencial en Brown 1248\, Morón
URL:https://camoron.org.ar/evento/reforma-policial-y-derecho-humanos/
CATEGORIES:Cursos
END:VEVENT
END:VCALENDAR