BEGIN:VCALENDAR
VERSION:2.0
PRODID:-//CAM - ECPv6.15.20//NONSGML v1.0//EN
CALSCALE:GREGORIAN
METHOD:PUBLISH
X-WR-CALNAME:CAM
X-ORIGINAL-URL:https://camoron.org.ar
X-WR-CALDESC:Eventos para CAM
REFRESH-INTERVAL;VALUE=DURATION:PT1H
X-Robots-Tag:noindex
X-PUBLISHED-TTL:PT1H
BEGIN:VTIMEZONE
TZID:America/Argentina/Buenos_Aires
BEGIN:STANDARD
TZOFFSETFROM:-0300
TZOFFSETTO:-0300
TZNAME:-03
DTSTART:20240101T000000
END:STANDARD
END:VTIMEZONE
BEGIN:VEVENT
DTSTART;TZID=America/Argentina/Buenos_Aires:20250905T000000
DTEND;TZID=America/Argentina/Buenos_Aires:20250905T235959
DTSTAMP:20260423T093710
CREATED:20250801T150339Z
LAST-MODIFIED:20250801T150339Z
UID:28567-1757030400-1757116799@camoron.org.ar
SUMMARY:Reuniones de Institutos y Comisiones: Práctica Profesional/ Aeronáutico/ Cuestiones Penitenciarias/ Sucesiones
DESCRIPTION:QUE ES UN INSTITUTO/COMISIÓN?Nuestros Institutos y Comisiones trabajan en el análisis\, contenido e investigación de las distintas áreas del Derecho.Es un ámbito dedicado al intercambio entre colegas para la permanente formación y actualización en el ejercicio profesional.Podes formar parte como miembro permanente o acercarte para resolver una duda o consulta respecto a esa materia.Te invitamos a sumarte a la rama del derecho que más te guste!ESPACIO EXCLUSIVO PARA MATRICULADOS CAM \n\n\n\nInstituto de Práctica Profesional:▶️Horario: 15hs.▶️Modalidad: Presencial en Sede Brown 1248\, Morón▶️No arancelada \n\n\n\nInstituto de Derecho Aeronáutico:▶️Horario: 15hs.▶️Modalidad: Presencial en Sede Brown 1248\, Morón▶️No arancelada \n\n\n\nComisión de Cuestiones Penitenciarias:▶️Horario: 15hs.▶️Modalidad: Presencial en Sede Brown 1248\, Morón▶️No arancelada \n\n\n\nInstituto de Sucesiones:▶️Horario: 15:30hs.▶️Modalidad: Presencial en Sede Brown 1248\, Morón▶️No arancelada
URL:https://camoron.org.ar/evento/reuniones-de-institutos-y-comisiones-practica-profesional-aeronautico-cuestiones-penitenciarias-sucesiones-3/
CATEGORIES:Reuniones
END:VEVENT
BEGIN:VEVENT
DTSTART;TZID=America/Argentina/Buenos_Aires:20250905T100000
DTEND;TZID=America/Argentina/Buenos_Aires:20250905T170000
DTSTAMP:20260423T093710
CREATED:20250807T144627Z
LAST-MODIFIED:20250820T171828Z
UID:28650-1757066400-1757091600@camoron.org.ar
SUMMARY:VII Jornadas Nacionales e Internacionales de Resolución Sistémica de Conflictos
DESCRIPTION:El Conflicto en la Vida Cotidiana Familia. Escuela. Empresa. Mediación. Derecho \n\n\n\n4\, 5 y 6 de Septiembre de 2025Jueves 4 y viernes 5 de 10 a 17 – Sábado de 10 a 13 hs. \n\n\n\nEXPONENTES NACIONALESMIEMBROS DEL INSTITUTO DE DERECHO SISTÉMICO CAMDra. María Inés Llanos – Jueza de Paz de NavarroDr. Matias Deane – Juez del Tribunal Oral en lo Criminal N°5 de la MatanzaDra. Veronica Cecilia NUÑEZ –Jueza de Familia N°1 de Ituzaingó \n\n\n\nEXPONENTES INTERNACIONALESDra. María de la Luz Dominguez Campos (México)\, Lic. Barbara Lobos Romano (Chile) Dra. Ana Galutti (Brasil)\, Dr. José Antonio Garcia Trabajo (España)\, Dra. Tania Florez (Colombia)\, Dra. Norma Magdaleno (EEUU)\, Dra Gina Paola Lopez Novoa (Colombia) \n\n\n\nVER PROGRAMA AQUÍ \n\n\n\nARANCELES:Matriculados CAM\, Colegio de Psicólogos y Trabajadores Sociales de Morón: Actividad sin cargoOtros nacionales: $ 20.000Extranjeros: u$S 30 \n\n\n\nModalidad Mixta▶️Presencial en Brown 1248\, Morón▶️Virtual vía Zoom. Solicitar acceso virtual a academicos@camoron.org.ar
URL:https://camoron.org.ar/evento/vii-jornadas-nacionales-e-internacionales-de-resolucion-sistemica-de-conflictos-2/
CATEGORIES:Cursos
END:VEVENT
END:VCALENDAR