BEGIN:VCALENDAR
VERSION:2.0
PRODID:-//CAM - ECPv6.15.20//NONSGML v1.0//EN
CALSCALE:GREGORIAN
METHOD:PUBLISH
X-WR-CALNAME:CAM
X-ORIGINAL-URL:https://camoron.org.ar
X-WR-CALDESC:Eventos para CAM
REFRESH-INTERVAL;VALUE=DURATION:PT1H
X-Robots-Tag:noindex
X-PUBLISHED-TTL:PT1H
BEGIN:VTIMEZONE
TZID:America/Argentina/Buenos_Aires
BEGIN:STANDARD
TZOFFSETFROM:-0300
TZOFFSETTO:-0300
TZNAME:-03
DTSTART:20230101T000000
END:STANDARD
END:VTIMEZONE
BEGIN:VEVENT
DTSTART;TZID=America/Argentina/Buenos_Aires:20241220T150000
DTEND;TZID=America/Argentina/Buenos_Aires:20241220T170000
DTSTAMP:20260424T063013
CREATED:20240715T152458Z
LAST-MODIFIED:20240715T152458Z
UID:26340-1734706800-1734714000@camoron.org.ar
SUMMARY:REUNIÓN: COMISIÓN DE CUESTIONES PENITENCIARIAS
DESCRIPTION:QUE ES UN INSTITUTO/COMISIÓN?\nNuestros Institutos y Comisiones trabajan en el análisis\, contenido e investigación de las distintas áreas del Derecho.\nEs un ámbito dedicado al intercambio entre colegas para la permanente formación y actualización en el ejercicio profesional.\nPodes formar parte como miembro permanente o acercarte para resolver una duda o consulta respecto a esa materia.\nTe invitamos a sumarte a la rama del derecho que más te guste!\nESPACIO EXCLUSIVO PARA MATRICULADOS CAM \nDías de reunión: 1º y 3º viernes de cada mes 15:00 hs\n▶️ Para participar comunicarse al 15-3244-2208 Dra. María Cecilia Caballero\n▶️ Reunión presencial en la sede de Mitre 964\, Morón\n▶️ No Arancelada
URL:https://camoron.org.ar/evento/reunion-comision-de-cuestiones-penitenciarias-16/
CATEGORIES:Reuniones
END:VEVENT
BEGIN:VEVENT
DTSTART;TZID=America/Argentina/Buenos_Aires:20241220T150000
DTEND;TZID=America/Argentina/Buenos_Aires:20241220T170000
DTSTAMP:20260424T063013
CREATED:20240715T162452Z
LAST-MODIFIED:20240715T162504Z
UID:26360-1734706800-1734714000@camoron.org.ar
SUMMARY:REUNIÓN: INSTITUTO DE PRÁCTICA PROFESIONAL
DESCRIPTION:QUE ES UN INSTITUTO?\nNuestros Institutos y Comisiones trabajan en el análisis\, contenido e investigación de las distintas áreas del Derecho.\nEs un ámbito dedicado al intercambio entre colegas para la permanente formación y actualización en el ejercicio profesional.\nPodes formar parte como miembro permanente o acercarte para resolver una duda o consulta respecto a esa materia.\nTe invitamos a sumarte a la rama del derecho que más te guste!\nESPACIO EXCLUSIVO PARA MATRICULADOS CAM\n \nDías de reunión: 1º y 3º viernes de cada mes 15:00 hs\n▶️ Para participar comunicarse al 15-54042646\n▶️ Reunión presencial en sede Mitre 964\, Morón\n▶️ No Arancelada
URL:https://camoron.org.ar/evento/reunion-instituto-de-practica-profesional-15/
CATEGORIES:Reuniones
END:VEVENT
BEGIN:VEVENT
DTSTART;TZID=America/Argentina/Buenos_Aires:20241220T163000
DTEND;TZID=America/Argentina/Buenos_Aires:20241220T173000
DTSTAMP:20260424T063013
CREATED:20240716T124902Z
LAST-MODIFIED:20250228T174709Z
UID:26370-1734712200-1734715800@camoron.org.ar
SUMMARY:REUNIÓN: INSTITUTO DE CIENCIA\, TECNOLOGÍA E INNOVACIÓN
DESCRIPTION:QUE ES UN INSTITUTO/COMISIÓN?\nNuestros Institutos y Comisiones trabajan en el análisis\, contenido e investigación de las distintas áreas del Derecho.\nEs un ámbito dedicado al intercambio entre colegas para la permanente formación y actualización en el ejercicio profesional.\nPodes formar parte como miembro permanente o acercarte para resolver una duda o consulta respecto a esa materia.\nTe invitamos a sumarte a la rama del derecho que más te guste!\nESPACIO EXCLUSIVO PARA MATRICULADOS CAM\n\nDías de reunión: Todos 3º viernes de cada mes 16:30 hs\n▶️Para participar comunicate al 15-55140561 Dr. Héctor Frega\n▶️Reunión presencial en sede Mitre 964\, Morón\n▶️No arancelada
URL:https://camoron.org.ar/evento/reunion-instituto-de-ciencia-tecnologia-e-innovacion-8/
CATEGORIES:Reuniones
END:VEVENT
END:VCALENDAR