BEGIN:VCALENDAR
VERSION:2.0
PRODID:-//CAM - ECPv6.15.20//NONSGML v1.0//EN
CALSCALE:GREGORIAN
METHOD:PUBLISH
X-WR-CALNAME:CAM
X-ORIGINAL-URL:https://camoron.org.ar
X-WR-CALDESC:Eventos para CAM
REFRESH-INTERVAL;VALUE=DURATION:PT1H
X-Robots-Tag:noindex
X-PUBLISHED-TTL:PT1H
BEGIN:VTIMEZONE
TZID:America/Argentina/Buenos_Aires
BEGIN:STANDARD
TZOFFSETFROM:-0300
TZOFFSETTO:-0300
TZNAME:-03
DTSTART:20230101T000000
END:STANDARD
END:VTIMEZONE
BEGIN:VEVENT
DTSTART;TZID=America/Argentina/Buenos_Aires:20241219T143000
DTEND;TZID=America/Argentina/Buenos_Aires:20241219T163000
DTSTAMP:20260424T063033
CREATED:20240712T175247Z
LAST-MODIFIED:20240712T175247Z
UID:26246-1734618600-1734625800@camoron.org.ar
SUMMARY:INSTITUTO DE DERECHO CONSTITUCIONAL
DESCRIPTION:QUE ES UN INSTITUTO?\nNuestros Institutos y Comisiones trabajan en el análisis\, contenido e investigación de las distintas áreas del Derecho.\nEs un ámbito dedicado al intercambio entre colegas para la permanente formación y actualización en el ejercicio profesional.\nPodes formar parte como miembro permanente o acercarte para resolver una duda o consulta respecto a esa materia.\nTe invitamos a sumarte a la rama del derecho que más te guste!\nESPACIO EXCLUSIVO PARA MATRICULADOS CAM \nDías de reunión: 3º jueves de cada mes 14:30 hs\n▶️Para participar comunicarse al 15-61535200 Dr. José Luis Núñez\n▶️ No Arancelada
URL:https://camoron.org.ar/evento/instituto-de-derecho-constitucional-8/
CATEGORIES:Reuniones
END:VEVENT
BEGIN:VEVENT
DTSTART;TZID=America/Argentina/Buenos_Aires:20241219T180000
DTEND;TZID=America/Argentina/Buenos_Aires:20241219T190000
DTSTAMP:20260424T063033
CREATED:20240712T172115Z
LAST-MODIFIED:20240712T172115Z
UID:26215-1734631200-1734634800@camoron.org.ar
SUMMARY:REUNIÓN: COMISIÓN ABOGACÍA JOVEN
DESCRIPTION:Te ayudamos en los primeros pasos de la profesión! \nQUE ES UN INSTITUTO/ COMISIÓN?\nNuestros Institutos y Comisiones trabajan en el análisis\, contenido e investigación de las distintas áreas del Derecho.\nEs un ámbito dedicado al intercambio entre colegas para la permanente formación y actualización en el ejercicio profesional.\nPodes formar parte como miembro permanente o acercarte para resolver una duda o consulta respecto a esa materia.\nTe invitamos a sumarte a la rama del derecho que más te guste!\nESPACIO EXCLUSIVO PARA MATRICULADOS CAM \nDías de reunión: 1º y 3º jueves de cada mes 18:00 hs\n▶️ Para participar comunicarse al 15-31786753 Dr. Gonzalo Lera\n▶️ Reuniones virtuales\n▶️ No Arancelada
URL:https://camoron.org.ar/evento/reunion-comision-abogacia-joven-15/
CATEGORIES:Reuniones
END:VEVENT
BEGIN:VEVENT
DTSTART;TZID=America/Argentina/Buenos_Aires:20241219T180000
DTEND;TZID=America/Argentina/Buenos_Aires:20241219T190000
DTSTAMP:20260424T063033
CREATED:20240712T173625Z
LAST-MODIFIED:20240712T173625Z
UID:26236-1734631200-1734634800@camoron.org.ar
SUMMARY:REUNIÓN: INSTITUTO DE DERECHO TRIBUTARIO
DESCRIPTION:QUE ES UN INSTITUTO/ COMISIÓN?\nNuestros Institutos y Comisiones trabajan en el análisis\, contenido e investigación de las distintas áreas del Derecho.\nEs un ámbito dedicado al intercambio entre colegas para la permanente formación y actualización en el ejercicio profesional.\nPodes formar parte como miembro permanente o acercarte para resolver una duda o consulta respecto a esa materia.\nTe invitamos a sumarte a la rama del derecho que más te guste!\nESPACIO EXCLUSIVO PARA MATRICULADOS CAM \nDías de reunión: 1º y 3º jueves de cada mes 18:00 hs\n▶️ Para participar comunicarse al 15-58715317 Dra. Susana Monti\n▶️ Reuniones virtuales\n▶️ No Arancelada
URL:https://camoron.org.ar/evento/reunion-instituto-de-derecho-tributario-15/
CATEGORIES:Reuniones
END:VEVENT
END:VCALENDAR