BEGIN:VCALENDAR
VERSION:2.0
PRODID:-//CAM - ECPv6.15.20//NONSGML v1.0//EN
CALSCALE:GREGORIAN
METHOD:PUBLISH
X-WR-CALNAME:CAM
X-ORIGINAL-URL:https://camoron.org.ar
X-WR-CALDESC:Eventos para CAM
REFRESH-INTERVAL;VALUE=DURATION:PT1H
X-Robots-Tag:noindex
X-PUBLISHED-TTL:PT1H
BEGIN:VTIMEZONE
TZID:America/Argentina/Buenos_Aires
BEGIN:STANDARD
TZOFFSETFROM:-0300
TZOFFSETTO:-0300
TZNAME:-03
DTSTART:20230101T000000
END:STANDARD
END:VTIMEZONE
BEGIN:VEVENT
DTSTART;TZID=America/Argentina/Buenos_Aires:20241216T143000
DTEND;TZID=America/Argentina/Buenos_Aires:20241216T163000
DTSTAMP:20260424T063032
CREATED:20240708T181123Z
LAST-MODIFIED:20240708T181123Z
UID:25983-1734359400-1734366600@camoron.org.ar
SUMMARY:REUNIÓN: INSTITUTO DE DERECHO AMBIENTAL
DESCRIPTION:QUE ES UN INSTITUTO?\nNuestros Institutos y Comisiones trabajan en el análisis\, contenido e investigación de las distintas áreas del Derecho.\nEs un ámbito dedicado al intercambio entre colegas para la permanente formación y actualización en el ejercicio profesional.\nPodes formar parte como miembro permanente o acercarte para resolver una duda o consulta respecto a esa materia.\nTe invitamos a sumarte a la rama del derecho que más te guste!\nESPACIO EXCLUSIVO PARA MATRICULADOS CAM \nDías de reunión: 3º lunes de cada mes 15:00 hs \n▶️Para participar comunicate al: 15-30025595 Dra. Viviana Reineri\n▶️ Reuniones virtuales y presenciales
URL:https://camoron.org.ar/evento/reunion-instituto-de-derecho-ambiental-6/
CATEGORIES:Reuniones
END:VEVENT
BEGIN:VEVENT
DTSTART;TZID=America/Argentina/Buenos_Aires:20241216T150000
DTEND;TZID=America/Argentina/Buenos_Aires:20241216T170000
DTSTAMP:20260424T063032
CREATED:20240708T175912Z
LAST-MODIFIED:20240708T175912Z
UID:25961-1734361200-1734368400@camoron.org.ar
SUMMARY:REUNIÓN: INSTITUTO DE DERECHO SISTÉMICO
DESCRIPTION:QUE ES UN INSTITUTO?\nNuestros Institutos y Comisiones trabajan en el análisis\, contenido e investigación de las distintas áreas del Derecho.\nEs un ámbito dedicado al intercambio entre colegas para la permanente formación y actualización en el ejercicio profesional.\nPodes formar parte como miembro permanente o acercarte para resolver una duda o consulta respecto a esa materia.\nTe invitamos a sumarte a la rama del derecho que más te guste!\nESPACIO EXCLUSIVO PARA MATRICULADOS CAM \nDías de reunión: Todos 1º Y 3º lunes de cada mes 15:00 hs\n📲Reuniones presenciales\n▶️Para participar comunicate al:  15-69149050 Dra. Cristina Llaguno
URL:https://camoron.org.ar/evento/reunion-instituto-de-derecho-sistemico-17/
CATEGORIES:Reuniones
END:VEVENT
END:VCALENDAR