BEGIN:VCALENDAR
VERSION:2.0
PRODID:-//CAM - ECPv6.15.20//NONSGML v1.0//EN
CALSCALE:GREGORIAN
METHOD:PUBLISH
X-ORIGINAL-URL:https://camoron.org.ar
X-WR-CALDESC:Eventos para CAM
REFRESH-INTERVAL;VALUE=DURATION:PT1H
X-Robots-Tag:noindex
X-PUBLISHED-TTL:PT1H
BEGIN:VTIMEZONE
TZID:America/Argentina/Buenos_Aires
BEGIN:STANDARD
TZOFFSETFROM:-0300
TZOFFSETTO:-0300
TZNAME:-03
DTSTART:20230101T000000
END:STANDARD
END:VTIMEZONE
BEGIN:VEVENT
DTSTART;TZID=America/Argentina/Buenos_Aires:20241212T140000
DTEND;TZID=America/Argentina/Buenos_Aires:20241212T160000
DTSTAMP:20260424T063243
CREATED:20240710T183210Z
LAST-MODIFIED:20240821T175337Z
UID:26101-1734012000-1734019200@camoron.org.ar
SUMMARY:REUNIÓN: INSTITUTO DE DERECHO LABORAL
DESCRIPTION:QUE ES UN INSTITUTO?\nNuestros Institutos y Comisiones trabajan en el análisis\, contenido e investigación de las distintas áreas del Derecho.\nEs un ámbito dedicado al intercambio entre colegas para la permanente formación y actualización en el ejercicio profesional.\nPodes formar parte como miembro permanente o acercarte para resolver una duda o consulta respecto a esa materia.\nTe invitamos a sumarte a la rama del derecho que más te guste!\nESPACIO EXCLUSIVO PARA MATRICULADOS CAM \nDías de reunión: Todos  los 2º y 4º jueves de cada mes 14:00 hs\n▶️Para participar comunicarse al 15-64093346 Dr. Sergio Arce\n▶️ Reuniones presenciales\n▶️ No Arancelada
URL:https://camoron.org.ar/evento/reunion-instituto-de-derecho-laboral-17/
CATEGORIES:Reuniones
END:VEVENT
BEGIN:VEVENT
DTSTART;TZID=America/Argentina/Buenos_Aires:20241212T143000
DTEND;TZID=America/Argentina/Buenos_Aires:20241212T163000
DTSTAMP:20260424T063243
CREATED:20240715T135703Z
LAST-MODIFIED:20240715T135703Z
UID:26266-1734013800-1734021000@camoron.org.ar
SUMMARY:REUNIÓN: INSTITUTO DE SALUD Y BIOÉTICA
DESCRIPTION:QUE ES UN INSTITUTO?\nNuestros Institutos y Comisiones trabajan en el análisis\, contenido e investigación de las distintas áreas del Derecho.\nEs un ámbito dedicado al intercambio entre colegas para la permanente formación y actualización en el ejercicio profesional.\nPodes formar parte como miembro permanente o acercarte para resolver una duda o consulta respecto a esa materia.\nTe invitamos a sumarte a la rama del derecho que más te guste!\nESPACIO EXCLUSIVO PARA MATRICULADOS CAM \nDías de reunión: Todos  los 2° y 4° jueves de cada mes 14:30 hs.\n▶️Para participar comunicarse al 15 59611209 Dra. María E. Lobelos\n▶️ Reuniones virtuales y presenciales\n▶️ No Arancelada
URL:https://camoron.org.ar/evento/reunion-instituto-de-salud-y-bioetica-13/
CATEGORIES:Reuniones
END:VEVENT
BEGIN:VEVENT
DTSTART;TZID=America/Argentina/Buenos_Aires:20241212T150000
DTEND;TZID=America/Argentina/Buenos_Aires:20241212T170000
DTSTAMP:20260424T063243
CREATED:20240715T141646Z
LAST-MODIFIED:20240715T141646Z
UID:26286-1734015600-1734022800@camoron.org.ar
SUMMARY:REUNIÓN: INSTITUTO DE SEGUROS
DESCRIPTION:QUE ES UN INSTITUTO?\nNuestros Institutos y Comisiones trabajan en el análisis\, contenido e investigación de las distintas áreas del Derecho.\nEs un ámbito dedicado al intercambio entre colegas para la permanente formación y actualización en el ejercicio profesional.\nPodes formar parte como miembro permanente o acercarte para resolver una duda o consulta respecto a esa materia.\nTe invitamos a sumarte a la rama del derecho que más te guste!\nESPACIO EXCLUSIVO PARA MATRICULADOS CAM \nDías de reunión: 2º y 4º jueves de cada mes 15:00 hs\n▶️ Para participar comunicarse al 15- 58431347 Dr. Nicolás Cintrán\n▶️ Reunión presencial en la sede de Mitre 964\, Morón\n▶️ No Arancelada
URL:https://camoron.org.ar/evento/reunion-instituto-de-seguros-18/
CATEGORIES:Reuniones
END:VEVENT
BEGIN:VEVENT
DTSTART;TZID=America/Argentina/Buenos_Aires:20241212T150000
DTEND;TZID=America/Argentina/Buenos_Aires:20241212T170000
DTSTAMP:20260424T063243
CREATED:20240715T143828Z
LAST-MODIFIED:20240715T143828Z
UID:26306-1734015600-1734022800@camoron.org.ar
SUMMARY:REUNIÓN: INSTITUTO DE DAÑOS Y PERJUICIOS Y RESP. CIVIL
DESCRIPTION:QUE ES UN INSTITUTO/COMISIÓN?\nNuestros Institutos y Comisiones trabajan en el análisis\, contenido e investigación de las distintas áreas del Derecho.\nEs un ámbito dedicado al intercambio entre colegas para la permanente formación y actualización en el ejercicio profesional.\nPodes formar parte como miembro permanente o acercarte para resolver una duda o consulta respecto a esa materia.\nTe invitamos a sumarte a la rama del derecho que más te guste!\nESPACIO EXCLUSIVO PARA MATRICULADOS CAM\n\nDías de reunión: 2º y 4º jueves de cada mes 15:00 hs\n▶️ Para participar comunicarse al 15-63705202 Dr. David Gastón Sandoval\n▶️ Actividad presencial en la sede de Mitre 964\, Morón\n▶️ No Arancelada
URL:https://camoron.org.ar/evento/reunion-instituto-de-danos-y-perjuicios-y-resp-civil-16/
CATEGORIES:Reuniones
END:VEVENT
END:VCALENDAR