BEGIN:VCALENDAR
VERSION:2.0
PRODID:-//CAM - ECPv6.15.20//NONSGML v1.0//EN
CALSCALE:GREGORIAN
METHOD:PUBLISH
X-WR-CALNAME:CAM
X-ORIGINAL-URL:https://camoron.org.ar
X-WR-CALDESC:Eventos para CAM
REFRESH-INTERVAL;VALUE=DURATION:PT1H
X-Robots-Tag:noindex
X-PUBLISHED-TTL:PT1H
BEGIN:VTIMEZONE
TZID:America/Argentina/Buenos_Aires
BEGIN:STANDARD
TZOFFSETFROM:-0300
TZOFFSETTO:-0300
TZNAME:-03
DTSTART:20230101T000000
END:STANDARD
END:VTIMEZONE
BEGIN:VEVENT
DTSTART;TZID=America/Argentina/Buenos_Aires:20241206T150000
DTEND;TZID=America/Argentina/Buenos_Aires:20241206T170000
DTSTAMP:20260424T063014
CREATED:20240715T152425Z
LAST-MODIFIED:20240715T152425Z
UID:26338-1733497200-1733504400@camoron.org.ar
SUMMARY:REUNIÓN: COMISIÓN DE CUESTIONES PENITENCIARIAS
DESCRIPTION:QUE ES UN INSTITUTO/COMISIÓN?\nNuestros Institutos y Comisiones trabajan en el análisis\, contenido e investigación de las distintas áreas del Derecho.\nEs un ámbito dedicado al intercambio entre colegas para la permanente formación y actualización en el ejercicio profesional.\nPodes formar parte como miembro permanente o acercarte para resolver una duda o consulta respecto a esa materia.\nTe invitamos a sumarte a la rama del derecho que más te guste!\nESPACIO EXCLUSIVO PARA MATRICULADOS CAM \nDías de reunión: 1º y 3º viernes de cada mes 15:00 hs\n▶️ Para participar comunicarse al 15-3244-2208 Dra. María Cecilia Caballero\n▶️ Reunión presencial en la sede de Mitre 964\, Morón\n▶️ No Arancelada
URL:https://camoron.org.ar/evento/reunion-comision-de-cuestiones-penitenciarias-15/
CATEGORIES:Reuniones
END:VEVENT
BEGIN:VEVENT
DTSTART;TZID=America/Argentina/Buenos_Aires:20241206T150000
DTEND;TZID=America/Argentina/Buenos_Aires:20241206T170000
DTSTAMP:20260424T063014
CREATED:20240715T162413Z
LAST-MODIFIED:20240715T162413Z
UID:26358-1733497200-1733504400@camoron.org.ar
SUMMARY:REUNIÓN: INSTITUTO DE PRÁCTICA PROFESIONAL
DESCRIPTION:QUE ES UN INSTITUTO?\nNuestros Institutos y Comisiones trabajan en el análisis\, contenido e investigación de las distintas áreas del Derecho.\nEs un ámbito dedicado al intercambio entre colegas para la permanente formación y actualización en el ejercicio profesional.\nPodes formar parte como miembro permanente o acercarte para resolver una duda o consulta respecto a esa materia.\nTe invitamos a sumarte a la rama del derecho que más te guste!\nESPACIO EXCLUSIVO PARA MATRICULADOS CAM\n \nDías de reunión: 1º y 3º viernes de cada mes 15:00 hs\n▶️ Para participar comunicarse al 15-54042646\n▶️ Reunión presencial en sede Mitre 964\, Morón\n▶️ No Arancelada
URL:https://camoron.org.ar/evento/reunion-instituto-de-practica-profesional-14/
CATEGORIES:Reuniones
END:VEVENT
BEGIN:VEVENT
DTSTART;TZID=America/Argentina/Buenos_Aires:20241206T153000
DTEND;TZID=America/Argentina/Buenos_Aires:20241206T163000
DTSTAMP:20260424T063014
CREATED:20240716T154110Z
LAST-MODIFIED:20241114T154123Z
UID:26414-1733499000-1733502600@camoron.org.ar
SUMMARY:REUNIÓN: INSTITUTO DE SUCESIONES
DESCRIPTION:QUE ES UN INSTITUTO/COMISIÓN?\nNuestros Institutos y Comisiones trabajan en el análisis\, contenido e investigación de las distintas áreas del Derecho.\nEs un ámbito dedicado al intercambio entre colegas para la permanente formación y actualización en el ejercicio profesional.\nPodes formar parte como miembro permanente o acercarte para resolver una duda o consulta respecto a esa materia.\nTe invitamos a sumarte a la rama del derecho que más te guste!\nESPACIO EXCLUSIVO PARA MATRICULADOS CAM \nDías de reunión: 2º Y 4º viernes de cada mes 15:30 hs\n▶️Para participar comunicate a: institutosucesionescam@gmail.com\n▶️Reunión presencial\n▶️No arancelada
URL:https://camoron.org.ar/evento/reunion-instituto-de-sucesiones-12/
CATEGORIES:Reuniones
END:VEVENT
BEGIN:VEVENT
DTSTART;TZID=America/Argentina/Buenos_Aires:20241206T173000
DTEND;TZID=America/Argentina/Buenos_Aires:20241206T193000
DTSTAMP:20260424T063014
CREATED:20241128T115158Z
LAST-MODIFIED:20241128T115400Z
UID:27107-1733506200-1733513400@camoron.org.ar
SUMMARY:INSEGURIDAD EN LA PROVINCIA DE BUENOS AIRES: DESAFÍOS 2025
DESCRIPTION:María Luján Rey \nDirectora General del Observatorio\nDe Víctimas de Delitos HCDN.\nDiputada Nacional  \nKitty Sanders \nPeriodista\, investigadora y Autora.\nEspecialista en Seguridad\, Tráfico y Trata\nde personas. Consultora Independiente de\nRelaciones Internacionales. Asesora en\nseguridad Física. Conferencista Internacional. \nSilvina Samparisi \nContadora Pública. Concejal de Morón.  \nModera: Ricardo Benedetti \nPeriodista  \n▶️ Presencial en la Sede de Brown 1250\n▶️ Actividad no arancelada \n\n@secretariaacademicacam\nSecretaria Academica CAM
URL:https://camoron.org.ar/evento/inseguridad-en-la-provincia-de-buenos-aires-desafios-2025/
CATEGORIES:Cursos
ATTACH;FMTTYPE=image/jpeg:https://camoron.org.ar/wp-content/uploads/2019/02/00_justiciamujer_23995-1.jpg
END:VEVENT
END:VCALENDAR