BEGIN:VCALENDAR
VERSION:2.0
PRODID:-//CAM - ECPv6.15.20//NONSGML v1.0//EN
CALSCALE:GREGORIAN
METHOD:PUBLISH
X-WR-CALNAME:CAM
X-ORIGINAL-URL:https://camoron.org.ar
X-WR-CALDESC:Eventos para CAM
REFRESH-INTERVAL;VALUE=DURATION:PT1H
X-Robots-Tag:noindex
X-PUBLISHED-TTL:PT1H
BEGIN:VTIMEZONE
TZID:America/Argentina/Buenos_Aires
BEGIN:STANDARD
TZOFFSETFROM:-0300
TZOFFSETTO:-0300
TZNAME:-03
DTSTART:20230101T000000
END:STANDARD
END:VTIMEZONE
BEGIN:VEVENT
DTSTART;TZID=America/Argentina/Buenos_Aires:20241205T153000
DTEND;TZID=America/Argentina/Buenos_Aires:20241205T173000
DTSTAMP:20260424T063013
CREATED:20241114T154006Z
LAST-MODIFIED:20241114T182554Z
UID:27075-1733412600-1733419800@camoron.org.ar
SUMMARY:HONORARIOS PROFESIONALES
DESCRIPTION:Cómo incide el fallo Barrios y sus recursos de apelación\n \nDR. RAMIRO TABOSSI\nJuez del Juzgado en lo Civil y Comercial Nº 7\ndel Departamento Judicial Morón.\nDR. CARLOS A. SCHIAVO\nDirector Honorario del Instituto de\nReclamos por Daños CAM. \nORGANIZA:\nInstituto de Reclamos por Daños \n▶️ Actividad no arancelada\n▶️ En VIVO a través de la plataforma ZOOM con los siguientes datos de acceso:\nhttps://us02web.zoom.us/j/81369519911?pwd=rb3IfJdyaKlalHAmvdVunDbqlTJzwJ.1\nID de reunión: 813 6951 9911\nCódigo de acceso: 834583\n \n\n@secretariaacademicacam\nSecretaria Academica CAM \n 
URL:https://camoron.org.ar/evento/honorarios-profesionales/
CATEGORIES:Cursos
ATTACH;FMTTYPE=image/jpeg:https://camoron.org.ar/wp-content/uploads/2020/12/computadora-1-1.jpg
END:VEVENT
BEGIN:VEVENT
DTSTART;TZID=America/Argentina/Buenos_Aires:20241205T180000
DTEND;TZID=America/Argentina/Buenos_Aires:20241205T190000
DTSTAMP:20260424T063013
CREATED:20240712T172044Z
LAST-MODIFIED:20240712T172044Z
UID:26213-1733421600-1733425200@camoron.org.ar
SUMMARY:REUNIÓN: COMISIÓN ABOGACÍA JOVEN
DESCRIPTION:Te ayudamos en los primeros pasos de la profesión! \nQUE ES UN INSTITUTO/ COMISIÓN?\nNuestros Institutos y Comisiones trabajan en el análisis\, contenido e investigación de las distintas áreas del Derecho.\nEs un ámbito dedicado al intercambio entre colegas para la permanente formación y actualización en el ejercicio profesional.\nPodes formar parte como miembro permanente o acercarte para resolver una duda o consulta respecto a esa materia.\nTe invitamos a sumarte a la rama del derecho que más te guste!\nESPACIO EXCLUSIVO PARA MATRICULADOS CAM \nDías de reunión: 1º y 3º jueves de cada mes 18:00 hs\n▶️ Para participar comunicarse al 15-31786753 Dr. Gonzalo Lera\n▶️ Reuniones virtuales\n▶️ No Arancelada
URL:https://camoron.org.ar/evento/reunion-comision-abogacia-joven-14/
CATEGORIES:Reuniones
END:VEVENT
BEGIN:VEVENT
DTSTART;TZID=America/Argentina/Buenos_Aires:20241205T180000
DTEND;TZID=America/Argentina/Buenos_Aires:20241205T190000
DTSTAMP:20260424T063013
CREATED:20240712T173524Z
LAST-MODIFIED:20240712T173524Z
UID:26233-1733421600-1733425200@camoron.org.ar
SUMMARY:REUNIÓN: INSTITUTO DE DERECHO TRIBUTARIO
DESCRIPTION:QUE ES UN INSTITUTO/ COMISIÓN?\nNuestros Institutos y Comisiones trabajan en el análisis\, contenido e investigación de las distintas áreas del Derecho.\nEs un ámbito dedicado al intercambio entre colegas para la permanente formación y actualización en el ejercicio profesional.\nPodes formar parte como miembro permanente o acercarte para resolver una duda o consulta respecto a esa materia.\nTe invitamos a sumarte a la rama del derecho que más te guste!\nESPACIO EXCLUSIVO PARA MATRICULADOS CAM \nDías de reunión: 1º y 3º jueves de cada mes 18:00 hs\n▶️ Para participar comunicarse al 15-58715317 Dra. Susana Monti\n▶️ Reuniones virtuales\n▶️ No Arancelada
URL:https://camoron.org.ar/evento/reunion-instituto-de-derecho-tributario-14/
CATEGORIES:Reuniones
END:VEVENT
END:VCALENDAR