BEGIN:VCALENDAR
VERSION:2.0
PRODID:-//CAM - ECPv6.15.20//NONSGML v1.0//EN
CALSCALE:GREGORIAN
METHOD:PUBLISH
X-WR-CALNAME:CAM
X-ORIGINAL-URL:https://camoron.org.ar
X-WR-CALDESC:Eventos para CAM
REFRESH-INTERVAL;VALUE=DURATION:PT1H
X-Robots-Tag:noindex
X-PUBLISHED-TTL:PT1H
BEGIN:VTIMEZONE
TZID:America/Argentina/Buenos_Aires
BEGIN:STANDARD
TZOFFSETFROM:-0300
TZOFFSETTO:-0300
TZNAME:-03
DTSTART:20230101T000000
END:STANDARD
END:VTIMEZONE
BEGIN:VEVENT
DTSTART;TZID=America/Argentina/Buenos_Aires:20241204T143000
DTEND;TZID=America/Argentina/Buenos_Aires:20241204T163000
DTSTAMP:20260424T063006
CREATED:20240710T190244Z
LAST-MODIFIED:20240710T190244Z
UID:26123-1733322600-1733329800@camoron.org.ar
SUMMARY:REUNIÓN: INSTITUTO DE LA PROPIEDAD INDUSTRIAL
DESCRIPTION:QUE ES UN INSTITUTO?\nNuestros Institutos y Comisiones trabajan en el análisis\, contenido e investigación de las distintas áreas del Derecho.\nEs un ámbito dedicado al intercambio entre colegas para la permanente formación y actualización en el ejercicio profesional.\nPodes formar parte como miembro permanente o acercarte para resolver una duda o consulta respecto a esa materia.\nTe invitamos a sumarte a la rama del derecho que más te guste!\nESPACIO EXCLUSIVO PARA MATRICULADOS CAM \nDías de reunión: Todos 1º y 3º miércoles de cada mes 14:30 hs\n📲Reuniones virtuales\n▶️Para participar comunicate al:  15-55250200 Dr. Alfredo Segura\n▶️ No arancelada
URL:https://camoron.org.ar/evento/reunion-instituto-de-la-propiedad-industrial-14/
CATEGORIES:Reuniones
END:VEVENT
BEGIN:VEVENT
DTSTART;TZID=America/Argentina/Buenos_Aires:20241204T150000
DTEND;TZID=America/Argentina/Buenos_Aires:20241204T170000
DTSTAMP:20260424T063006
CREATED:20240710T191214Z
LAST-MODIFIED:20240710T191214Z
UID:26142-1733324400-1733331600@camoron.org.ar
SUMMARY:REUNIÓN: INSTITUTO DE CONTRATOS Y DE LAS OBLIGACIONES
DESCRIPTION:QUE ES UN INSTITUTO?\nNuestros Institutos y Comisiones trabajan en el análisis\, contenido e investigación de las distintas áreas del Derecho.\nEs un ámbito dedicado al intercambio entre colegas para la permanente formación y actualización en el ejercicio profesional.\nPodes formar parte como miembro permanente o acercarte para resolver una duda o consulta respecto a esa materia.\nTe invitamos a sumarte a la rama del derecho que más te guste!\nESPACIO EXCLUSIVO PARA MATRICULADOS CAM \nDías de reunión: Todos  los 1º y 3º miércoles de cada mes 15:00 hs\n▶️Para participar comunicarse al 15-59539501 Dr. Martín Benitez\n▶️ Reuniones presenciales\n▶️ No Arancelada
URL:https://camoron.org.ar/evento/reunion-instituto-de-contratos-y-de-las-obligaciones-14/
CATEGORIES:Reuniones
END:VEVENT
END:VCALENDAR