BEGIN:VCALENDAR
VERSION:2.0
PRODID:-//CAM - ECPv6.15.20//NONSGML v1.0//EN
CALSCALE:GREGORIAN
METHOD:PUBLISH
X-WR-CALNAME:CAM
X-ORIGINAL-URL:https://camoron.org.ar
X-WR-CALDESC:Eventos para CAM
REFRESH-INTERVAL;VALUE=DURATION:PT1H
X-Robots-Tag:noindex
X-PUBLISHED-TTL:PT1H
BEGIN:VTIMEZONE
TZID:America/Argentina/Buenos_Aires
BEGIN:STANDARD
TZOFFSETFROM:-0300
TZOFFSETTO:-0300
TZNAME:-03
DTSTART:20230101T000000
END:STANDARD
END:VTIMEZONE
BEGIN:VEVENT
DTSTART;TZID=America/Argentina/Buenos_Aires:20241129T140000
DTEND;TZID=America/Argentina/Buenos_Aires:20241129T160000
DTSTAMP:20260424T063014
CREATED:20241018T124921Z
LAST-MODIFIED:20241018T124921Z
UID:26987-1732888800-1732896000@camoron.org.ar
SUMMARY:TALLER PRÁCTICO DE FAMILIA
DESCRIPTION:Traé tu PC y tus inquietudes para trabajar juntos! \nDRA. ISABEL APPUGLIESE\nCodirectora Instituto de Abogados de Niñas\, Niños y Adolescentes CAM. \nORGANIZA ÁREA DE GÉNEROS\, INFANCIAS Y FAMILIAS \n▶️ Actividad no arancelada\n▶️ Presencial en la sede Brown 1250\, Morón \n\n@secretariaacademicacam\nSecretaria Academica CAM
URL:https://camoron.org.ar/evento/taller-practico-de-familia-7/
CATEGORIES:Cursos
END:VEVENT
END:VCALENDAR