BEGIN:VCALENDAR
VERSION:2.0
PRODID:-//CAM - ECPv6.15.20//NONSGML v1.0//EN
CALSCALE:GREGORIAN
METHOD:PUBLISH
X-WR-CALNAME:CAM
X-ORIGINAL-URL:https://camoron.org.ar
X-WR-CALDESC:Eventos para CAM
REFRESH-INTERVAL;VALUE=DURATION:PT1H
X-Robots-Tag:noindex
X-PUBLISHED-TTL:PT1H
BEGIN:VTIMEZONE
TZID:America/Argentina/Buenos_Aires
BEGIN:STANDARD
TZOFFSETFROM:-0300
TZOFFSETTO:-0300
TZNAME:-03
DTSTART:20230101T000000
END:STANDARD
END:VTIMEZONE
BEGIN:VEVENT
DTSTART;TZID=America/Argentina/Buenos_Aires:20241106T143000
DTEND;TZID=America/Argentina/Buenos_Aires:20241106T163000
DTSTAMP:20260424T080040
CREATED:20240710T185826Z
LAST-MODIFIED:20240710T185826Z
UID:26117-1730903400-1730910600@camoron.org.ar
SUMMARY:REUNIÓN: INSTITUTO DE LA PROPIEDAD INDUSTRIAL
DESCRIPTION:QUE ES UN INSTITUTO?\nNuestros Institutos y Comisiones trabajan en el análisis\, contenido e investigación de las distintas áreas del Derecho.\nEs un ámbito dedicado al intercambio entre colegas para la permanente formación y actualización en el ejercicio profesional.\nPodes formar parte como miembro permanente o acercarte para resolver una duda o consulta respecto a esa materia.\nTe invitamos a sumarte a la rama del derecho que más te guste!\nESPACIO EXCLUSIVO PARA MATRICULADOS CAM \nDías de reunión: Todos 1º y 3º miércoles de cada mes 14:30 hs\n📲Reuniones virtuales\n▶️Para participar comunicate al:  15-55250200 Dr. Alfredo Segura\n▶️ No arancelada
URL:https://camoron.org.ar/evento/reunion-instituto-de-la-propiedad-industrial-11/
CATEGORIES:Reuniones
END:VEVENT
BEGIN:VEVENT
DTSTART;TZID=America/Argentina/Buenos_Aires:20241106T150000
DTEND;TZID=America/Argentina/Buenos_Aires:20241106T170000
DTSTAMP:20260424T080040
CREATED:20240710T191120Z
LAST-MODIFIED:20240710T191120Z
UID:26138-1730905200-1730912400@camoron.org.ar
SUMMARY:REUNIÓN: INSTITUTO DE CONTRATOS Y DE LAS OBLIGACIONES
DESCRIPTION:QUE ES UN INSTITUTO?\nNuestros Institutos y Comisiones trabajan en el análisis\, contenido e investigación de las distintas áreas del Derecho.\nEs un ámbito dedicado al intercambio entre colegas para la permanente formación y actualización en el ejercicio profesional.\nPodes formar parte como miembro permanente o acercarte para resolver una duda o consulta respecto a esa materia.\nTe invitamos a sumarte a la rama del derecho que más te guste!\nESPACIO EXCLUSIVO PARA MATRICULADOS CAM \nDías de reunión: Todos  los 1º y 3º miércoles de cada mes 15:00 hs\n▶️Para participar comunicarse al 15-59539501 Dr. Martín Benitez\n▶️ Reuniones presenciales\n▶️ No Arancelada
URL:https://camoron.org.ar/evento/reunion-instituto-de-contratos-y-de-las-obligaciones-12/
CATEGORIES:Reuniones
END:VEVENT
BEGIN:VEVENT
DTSTART;TZID=America/Argentina/Buenos_Aires:20241106T150000
DTEND;TZID=America/Argentina/Buenos_Aires:20241106T170000
DTSTAMP:20260424T080040
CREATED:20241018T150536Z
LAST-MODIFIED:20241018T150536Z
UID:26997-1730905200-1730912400@camoron.org.ar
SUMMARY:ACTUALIZACIÓN DE RECLAMOS INDEMNIZATORIOS JUDICIALES
DESCRIPTION:Indexación de deudas. Actualización de créditos. Tasa de interés aplicable.\nDoctrina “Barrios” de la SCBA. Supuestos en que procede e instancia procesal\nadecuada para su planteamiento. Sus implicancias en causas de daños y perjuicios\,\nincumplimientos contractuales y honorarios profesionales\, entre otros. \nDR. PABLO BERMOLEN\nSecretario del Juzgado Civil y Comercial 4\nDepartamento Judicial Morón. Docente\nuniversitario (UM y UNLaM). \nDR. MARTÍN D. BENÍTEZ\nDoctor en Ciencias Jurídicas. Director del\nInstituto de Contratos y Obligaciones CAM.\nProfesor UBA\, UNLAM\, IUNMA. Investigador. \n▶️ Actividad no arancelada\n▶️ Presencial en la sede Brown 1250\, Morón \n\n@secretariaacademicacam\nSecretaria Academica CAM
URL:https://camoron.org.ar/evento/actualizacion-de-reclamos-indemnizatorios-judiciales/
CATEGORIES:Cursos
END:VEVENT
BEGIN:VEVENT
DTSTART;TZID=America/Argentina/Buenos_Aires:20241106T173000
DTEND;TZID=America/Argentina/Buenos_Aires:20241106T183000
DTSTAMP:20260424T080040
CREATED:20241104T135211Z
LAST-MODIFIED:20241104T135211Z
UID:27051-1730914200-1730917800@camoron.org.ar
SUMMARY:FILOCAM: RIESGO Y DERECHO\, COMPENSACIÓN O CASTIGO
DESCRIPTION:La seguridad como una necesidad humana \nDisertante: Dr. Jorge Omar Frega\nPresenta: Dr. Cristian Callegari  \nReunión abierta del Instituto de Filosofía del Derecho CAM \n▶️Actividad no arancelada\n▶️Presencial en Brown 1250\, Morón
URL:https://camoron.org.ar/evento/filocam-riesgo-y-derecho-compensacion-o-castigo/
CATEGORIES:Cursos
END:VEVENT
END:VCALENDAR